BEGIN:VCALENDAR
VERSION:2.0
PRODID:-//Le Maître de Jeux - ECPv6.15.18//NONSGML v1.0//EN
CALSCALE:GREGORIAN
METHOD:PUBLISH
X-ORIGINAL-URL:https://shop.lemaitredejeux.ch
X-WR-CALDESC:Évènements pour Le Maître de Jeux
REFRESH-INTERVAL;VALUE=DURATION:PT1H
X-Robots-Tag:noindex
X-PUBLISHED-TTL:PT1H
BEGIN:VTIMEZONE
TZID:Europe/Zurich
BEGIN:DAYLIGHT
TZOFFSETFROM:+0100
TZOFFSETTO:+0200
TZNAME:CEST
DTSTART:20230326T010000
END:DAYLIGHT
BEGIN:STANDARD
TZOFFSETFROM:+0200
TZOFFSETTO:+0100
TZNAME:CET
DTSTART:20231029T010000
END:STANDARD
BEGIN:DAYLIGHT
TZOFFSETFROM:+0100
TZOFFSETTO:+0200
TZNAME:CEST
DTSTART:20240331T010000
END:DAYLIGHT
BEGIN:STANDARD
TZOFFSETFROM:+0200
TZOFFSETTO:+0100
TZNAME:CET
DTSTART:20241027T010000
END:STANDARD
BEGIN:DAYLIGHT
TZOFFSETFROM:+0100
TZOFFSETTO:+0200
TZNAME:CEST
DTSTART:20250330T010000
END:DAYLIGHT
BEGIN:STANDARD
TZOFFSETFROM:+0200
TZOFFSETTO:+0100
TZNAME:CET
DTSTART:20251026T010000
END:STANDARD
END:VTIMEZONE
BEGIN:VEVENT
DTSTART;TZID=Europe/Zurich:20240628T180000
DTEND;TZID=Europe/Zurich:20240628T210000
DTSTAMP:20260421T010235
CREATED:20240620T121452Z
LAST-MODIFIED:20240620T121452Z
UID:10001055-1719597600-1719608400@shop.lemaitredejeux.ch
SUMMARY:Magic : Tournoi en draft
DESCRIPTION:Un format dans lequel les joueurs ouvrent des boosters de cartes puis s’affrontent dans des parties à un contre un ! Chaque deck doit contenir au moins de 40 cartes et une partie devrait avoir une durée moyenne (environ 20 minutes). \nComment drafter : Tout d’abord\, les joueurs s’assoient autour d’une table\, en demi-cercle. Chaque joueur ouvre un booster et y choisit une seule carte\, sans la montrer aux autres joueurs. \nChaque joueur passe ensuite les cartes restantes à sa gauche\, puis continue à drafter avec les nouvelles cartes qu’il reçoit du joueur à sa droite. L’opération continue jusqu’à ce que toutes les cartes de ces boosters aient été choisies (draftées). Ensuite\, chaque joueur ouvre un nouveau booster\, mais cette fois\, il doit passer les cartes au joueur situé à sa droite. Une fois que toutes ces cartes ont été choisies\, chacun fait la même chose avec le troisième booster\, en passant à nouveau les cartes au joueur situé à gauche. À la fin\, chaque joueur aura environ 45 cartes (et des terrains de base) pour construire un deck de 40 cartes. \nL’édition utilisée est choisie le soir même. Il s’agit généralement de la dernière édition éditée. \nFrais de participation : le prix des 3 boosters utilisés pour faire le draft. \nLots : cartes promo \n 
URL:https://shop.lemaitredejeux.ch/event/magic-tournoi-en-draft/2024-06-28/
LOCATION:Valais
CATEGORIES:Magic the Gathering
ATTACH;FMTTYPE=image/png:https://shop.lemaitredejeux.ch/wp-content/uploads/2024/06/mtg-transparent.png
END:VEVENT
END:VCALENDAR