BEGIN:VCALENDAR
VERSION:2.0
PRODID:-//Le Maître de Jeux - ECPv6.15.18//NONSGML v1.0//EN
CALSCALE:GREGORIAN
METHOD:PUBLISH
X-WR-CALNAME:Le Maître de Jeux
X-ORIGINAL-URL:https://shop.lemaitredejeux.ch
X-WR-CALDESC:Évènements pour Le Maître de Jeux
REFRESH-INTERVAL;VALUE=DURATION:PT1H
X-Robots-Tag:noindex
X-PUBLISHED-TTL:PT1H
BEGIN:VTIMEZONE
TZID:Europe/Zurich
BEGIN:DAYLIGHT
TZOFFSETFROM:+0100
TZOFFSETTO:+0200
TZNAME:CEST
DTSTART:20230326T010000
END:DAYLIGHT
BEGIN:STANDARD
TZOFFSETFROM:+0200
TZOFFSETTO:+0100
TZNAME:CET
DTSTART:20231029T010000
END:STANDARD
BEGIN:DAYLIGHT
TZOFFSETFROM:+0100
TZOFFSETTO:+0200
TZNAME:CEST
DTSTART:20240331T010000
END:DAYLIGHT
BEGIN:STANDARD
TZOFFSETFROM:+0200
TZOFFSETTO:+0100
TZNAME:CET
DTSTART:20241027T010000
END:STANDARD
BEGIN:DAYLIGHT
TZOFFSETFROM:+0100
TZOFFSETTO:+0200
TZNAME:CEST
DTSTART:20250330T010000
END:DAYLIGHT
BEGIN:STANDARD
TZOFFSETFROM:+0200
TZOFFSETTO:+0100
TZNAME:CET
DTSTART:20251026T010000
END:STANDARD
END:VTIMEZONE
BEGIN:VEVENT
DTSTART;TZID=Europe/Zurich:20240705T180000
DTEND;TZID=Europe/Zurich:20240705T210000
DTSTAMP:20260421T041519
CREATED:20240620T121452Z
LAST-MODIFIED:20240620T121452Z
UID:10001056-1720202400-1720213200@shop.lemaitredejeux.ch
SUMMARY:Magic : Tournoi en draft
DESCRIPTION:Un format dans lequel les joueurs ouvrent des boosters de cartes puis s’affrontent dans des parties à un contre un ! Chaque deck doit contenir au moins de 40 cartes et une partie devrait avoir une durée moyenne (environ 20 minutes). \nComment drafter : Tout d’abord\, les joueurs s’assoient autour d’une table\, en demi-cercle. Chaque joueur ouvre un booster et y choisit une seule carte\, sans la montrer aux autres joueurs. \nChaque joueur passe ensuite les cartes restantes à sa gauche\, puis continue à drafter avec les nouvelles cartes qu’il reçoit du joueur à sa droite. L’opération continue jusqu’à ce que toutes les cartes de ces boosters aient été choisies (draftées). Ensuite\, chaque joueur ouvre un nouveau booster\, mais cette fois\, il doit passer les cartes au joueur situé à sa droite. Une fois que toutes ces cartes ont été choisies\, chacun fait la même chose avec le troisième booster\, en passant à nouveau les cartes au joueur situé à gauche. À la fin\, chaque joueur aura environ 45 cartes (et des terrains de base) pour construire un deck de 40 cartes. \nL’édition utilisée est choisie le soir même. Il s’agit généralement de la dernière édition éditée. \nFrais de participation : le prix des 3 boosters utilisés pour faire le draft. \nLots : cartes promo \n 
URL:https://shop.lemaitredejeux.ch/event/magic-tournoi-en-draft/2024-07-05/
LOCATION:Valais
CATEGORIES:Magic the Gathering
ATTACH;FMTTYPE=image/png:https://shop.lemaitredejeux.ch/wp-content/uploads/2024/06/mtg-transparent.png
END:VEVENT
BEGIN:VEVENT
DTSTART;TZID=Europe/Zurich:20240705T180000
DTEND;TZID=Europe/Zurich:20240705T210000
DTSTAMP:20260421T041519
CREATED:20240620T121452Z
LAST-MODIFIED:20240620T121452Z
UID:10001059-1720202400-1720213200@shop.lemaitredejeux.ch
SUMMARY:Magic : Tournoi en draft
DESCRIPTION:Un format dans lequel les joueurs ouvrent des boosters de cartes puis s’affrontent dans des parties à un contre un ! Chaque deck doit contenir au moins de 40 cartes et une partie devrait avoir une durée moyenne (environ 20 minutes). \nComment drafter : Tout d’abord\, les joueurs s’assoient autour d’une table\, en demi-cercle. Chaque joueur ouvre un booster et y choisit une seule carte\, sans la montrer aux autres joueurs. \nChaque joueur passe ensuite les cartes restantes à sa gauche\, puis continue à drafter avec les nouvelles cartes qu’il reçoit du joueur à sa droite. L’opération continue jusqu’à ce que toutes les cartes de ces boosters aient été choisies (draftées). Ensuite\, chaque joueur ouvre un nouveau booster\, mais cette fois\, il doit passer les cartes au joueur situé à sa droite. Une fois que toutes ces cartes ont été choisies\, chacun fait la même chose avec le troisième booster\, en passant à nouveau les cartes au joueur situé à gauche. À la fin\, chaque joueur aura environ 45 cartes (et des terrains de base) pour construire un deck de 40 cartes. \nL’édition utilisée est choisie le soir même. Il s’agit généralement de la dernière édition éditée. \nFrais de participation : le prix des 3 boosters utilisés pour faire le draft. \nLots : cartes promo \n 
URL:https://shop.lemaitredejeux.ch/event/magic-tournoi-en-draft/2024-07-05/
LOCATION:Valais
CATEGORIES:Magic the Gathering
ATTACH;FMTTYPE=image/png:https://shop.lemaitredejeux.ch/wp-content/uploads/2024/06/mtg-transparent.png
END:VEVENT
BEGIN:VEVENT
DTSTART;TZID=Europe/Zurich:20240712T180000
DTEND;TZID=Europe/Zurich:20240712T210000
DTSTAMP:20260421T041519
CREATED:20240620T121452Z
LAST-MODIFIED:20240620T121452Z
UID:10001060-1720807200-1720818000@shop.lemaitredejeux.ch
SUMMARY:Magic : Tournoi en draft
DESCRIPTION:Un format dans lequel les joueurs ouvrent des boosters de cartes puis s’affrontent dans des parties à un contre un ! Chaque deck doit contenir au moins de 40 cartes et une partie devrait avoir une durée moyenne (environ 20 minutes). \nComment drafter : Tout d’abord\, les joueurs s’assoient autour d’une table\, en demi-cercle. Chaque joueur ouvre un booster et y choisit une seule carte\, sans la montrer aux autres joueurs. \nChaque joueur passe ensuite les cartes restantes à sa gauche\, puis continue à drafter avec les nouvelles cartes qu’il reçoit du joueur à sa droite. L’opération continue jusqu’à ce que toutes les cartes de ces boosters aient été choisies (draftées). Ensuite\, chaque joueur ouvre un nouveau booster\, mais cette fois\, il doit passer les cartes au joueur situé à sa droite. Une fois que toutes ces cartes ont été choisies\, chacun fait la même chose avec le troisième booster\, en passant à nouveau les cartes au joueur situé à gauche. À la fin\, chaque joueur aura environ 45 cartes (et des terrains de base) pour construire un deck de 40 cartes. \nL’édition utilisée est choisie le soir même. Il s’agit généralement de la dernière édition éditée. \nFrais de participation : le prix des 3 boosters utilisés pour faire le draft. \nLots : cartes promo \n 
URL:https://shop.lemaitredejeux.ch/event/magic-tournoi-en-draft/2024-07-12/
LOCATION:Valais
CATEGORIES:Magic the Gathering
ATTACH;FMTTYPE=image/png:https://shop.lemaitredejeux.ch/wp-content/uploads/2024/06/mtg-transparent.png
END:VEVENT
BEGIN:VEVENT
DTSTART;TZID=Europe/Zurich:20240712T180000
DTEND;TZID=Europe/Zurich:20240712T210000
DTSTAMP:20260421T041519
CREATED:20240620T121452Z
LAST-MODIFIED:20240620T121452Z
UID:10001062-1720807200-1720818000@shop.lemaitredejeux.ch
SUMMARY:Magic : Tournoi en draft
DESCRIPTION:Un format dans lequel les joueurs ouvrent des boosters de cartes puis s’affrontent dans des parties à un contre un ! Chaque deck doit contenir au moins de 40 cartes et une partie devrait avoir une durée moyenne (environ 20 minutes). \nComment drafter : Tout d’abord\, les joueurs s’assoient autour d’une table\, en demi-cercle. Chaque joueur ouvre un booster et y choisit une seule carte\, sans la montrer aux autres joueurs. \nChaque joueur passe ensuite les cartes restantes à sa gauche\, puis continue à drafter avec les nouvelles cartes qu’il reçoit du joueur à sa droite. L’opération continue jusqu’à ce que toutes les cartes de ces boosters aient été choisies (draftées). Ensuite\, chaque joueur ouvre un nouveau booster\, mais cette fois\, il doit passer les cartes au joueur situé à sa droite. Une fois que toutes ces cartes ont été choisies\, chacun fait la même chose avec le troisième booster\, en passant à nouveau les cartes au joueur situé à gauche. À la fin\, chaque joueur aura environ 45 cartes (et des terrains de base) pour construire un deck de 40 cartes. \nL’édition utilisée est choisie le soir même. Il s’agit généralement de la dernière édition éditée. \nFrais de participation : le prix des 3 boosters utilisés pour faire le draft. \nLots : cartes promo \n 
URL:https://shop.lemaitredejeux.ch/event/magic-tournoi-en-draft/2024-07-12/
LOCATION:Valais
CATEGORIES:Magic the Gathering
ATTACH;FMTTYPE=image/png:https://shop.lemaitredejeux.ch/wp-content/uploads/2024/06/mtg-transparent.png
END:VEVENT
BEGIN:VEVENT
DTSTART;TZID=Europe/Zurich:20240712T180000
DTEND;TZID=Europe/Zurich:20240712T210000
DTSTAMP:20260421T041519
CREATED:20240620T121452Z
LAST-MODIFIED:20240620T121452Z
UID:10001057-1720807200-1720818000@shop.lemaitredejeux.ch
SUMMARY:Magic : Tournoi en draft
DESCRIPTION:Un format dans lequel les joueurs ouvrent des boosters de cartes puis s’affrontent dans des parties à un contre un ! Chaque deck doit contenir au moins de 40 cartes et une partie devrait avoir une durée moyenne (environ 20 minutes). \nComment drafter : Tout d’abord\, les joueurs s’assoient autour d’une table\, en demi-cercle. Chaque joueur ouvre un booster et y choisit une seule carte\, sans la montrer aux autres joueurs. \nChaque joueur passe ensuite les cartes restantes à sa gauche\, puis continue à drafter avec les nouvelles cartes qu’il reçoit du joueur à sa droite. L’opération continue jusqu’à ce que toutes les cartes de ces boosters aient été choisies (draftées). Ensuite\, chaque joueur ouvre un nouveau booster\, mais cette fois\, il doit passer les cartes au joueur situé à sa droite. Une fois que toutes ces cartes ont été choisies\, chacun fait la même chose avec le troisième booster\, en passant à nouveau les cartes au joueur situé à gauche. À la fin\, chaque joueur aura environ 45 cartes (et des terrains de base) pour construire un deck de 40 cartes. \nL’édition utilisée est choisie le soir même. Il s’agit généralement de la dernière édition éditée. \nFrais de participation : le prix des 3 boosters utilisés pour faire le draft. \nLots : cartes promo \n 
URL:https://shop.lemaitredejeux.ch/event/magic-tournoi-en-draft/2024-07-12/
LOCATION:Valais
CATEGORIES:Magic the Gathering
ATTACH;FMTTYPE=image/png:https://shop.lemaitredejeux.ch/wp-content/uploads/2024/06/mtg-transparent.png
END:VEVENT
BEGIN:VEVENT
DTSTART;TZID=Europe/Zurich:20240719T180000
DTEND;TZID=Europe/Zurich:20240719T210000
DTSTAMP:20260421T041519
CREATED:20240620T121452Z
LAST-MODIFIED:20240620T121452Z
UID:10001061-1721412000-1721422800@shop.lemaitredejeux.ch
SUMMARY:Magic : Tournoi en draft
DESCRIPTION:Un format dans lequel les joueurs ouvrent des boosters de cartes puis s’affrontent dans des parties à un contre un ! Chaque deck doit contenir au moins de 40 cartes et une partie devrait avoir une durée moyenne (environ 20 minutes). \nComment drafter : Tout d’abord\, les joueurs s’assoient autour d’une table\, en demi-cercle. Chaque joueur ouvre un booster et y choisit une seule carte\, sans la montrer aux autres joueurs. \nChaque joueur passe ensuite les cartes restantes à sa gauche\, puis continue à drafter avec les nouvelles cartes qu’il reçoit du joueur à sa droite. L’opération continue jusqu’à ce que toutes les cartes de ces boosters aient été choisies (draftées). Ensuite\, chaque joueur ouvre un nouveau booster\, mais cette fois\, il doit passer les cartes au joueur situé à sa droite. Une fois que toutes ces cartes ont été choisies\, chacun fait la même chose avec le troisième booster\, en passant à nouveau les cartes au joueur situé à gauche. À la fin\, chaque joueur aura environ 45 cartes (et des terrains de base) pour construire un deck de 40 cartes. \nL’édition utilisée est choisie le soir même. Il s’agit généralement de la dernière édition éditée. \nFrais de participation : le prix des 3 boosters utilisés pour faire le draft. \nLots : cartes promo \n 
URL:https://shop.lemaitredejeux.ch/event/magic-tournoi-en-draft/2024-07-19/
LOCATION:Valais
CATEGORIES:Magic the Gathering
ATTACH;FMTTYPE=image/png:https://shop.lemaitredejeux.ch/wp-content/uploads/2024/06/mtg-transparent.png
END:VEVENT
BEGIN:VEVENT
DTSTART;TZID=Europe/Zurich:20240719T180000
DTEND;TZID=Europe/Zurich:20240719T210000
DTSTAMP:20260421T041519
CREATED:20240620T121452Z
LAST-MODIFIED:20240620T121452Z
UID:10001063-1721412000-1721422800@shop.lemaitredejeux.ch
SUMMARY:Magic : Tournoi en draft
DESCRIPTION:Un format dans lequel les joueurs ouvrent des boosters de cartes puis s’affrontent dans des parties à un contre un ! Chaque deck doit contenir au moins de 40 cartes et une partie devrait avoir une durée moyenne (environ 20 minutes). \nComment drafter : Tout d’abord\, les joueurs s’assoient autour d’une table\, en demi-cercle. Chaque joueur ouvre un booster et y choisit une seule carte\, sans la montrer aux autres joueurs. \nChaque joueur passe ensuite les cartes restantes à sa gauche\, puis continue à drafter avec les nouvelles cartes qu’il reçoit du joueur à sa droite. L’opération continue jusqu’à ce que toutes les cartes de ces boosters aient été choisies (draftées). Ensuite\, chaque joueur ouvre un nouveau booster\, mais cette fois\, il doit passer les cartes au joueur situé à sa droite. Une fois que toutes ces cartes ont été choisies\, chacun fait la même chose avec le troisième booster\, en passant à nouveau les cartes au joueur situé à gauche. À la fin\, chaque joueur aura environ 45 cartes (et des terrains de base) pour construire un deck de 40 cartes. \nL’édition utilisée est choisie le soir même. Il s’agit généralement de la dernière édition éditée. \nFrais de participation : le prix des 3 boosters utilisés pour faire le draft. \nLots : cartes promo \n 
URL:https://shop.lemaitredejeux.ch/event/magic-tournoi-en-draft/2024-07-19/
LOCATION:Valais
CATEGORIES:Magic the Gathering
ATTACH;FMTTYPE=image/png:https://shop.lemaitredejeux.ch/wp-content/uploads/2024/06/mtg-transparent.png
END:VEVENT
BEGIN:VEVENT
DTSTART;TZID=Europe/Zurich:20240719T180000
DTEND;TZID=Europe/Zurich:20240719T210000
DTSTAMP:20260421T041519
CREATED:20240620T121452Z
LAST-MODIFIED:20240620T121452Z
UID:10001064-1721412000-1721422800@shop.lemaitredejeux.ch
SUMMARY:Magic : Tournoi en draft
DESCRIPTION:Un format dans lequel les joueurs ouvrent des boosters de cartes puis s’affrontent dans des parties à un contre un ! Chaque deck doit contenir au moins de 40 cartes et une partie devrait avoir une durée moyenne (environ 20 minutes). \nComment drafter : Tout d’abord\, les joueurs s’assoient autour d’une table\, en demi-cercle. Chaque joueur ouvre un booster et y choisit une seule carte\, sans la montrer aux autres joueurs. \nChaque joueur passe ensuite les cartes restantes à sa gauche\, puis continue à drafter avec les nouvelles cartes qu’il reçoit du joueur à sa droite. L’opération continue jusqu’à ce que toutes les cartes de ces boosters aient été choisies (draftées). Ensuite\, chaque joueur ouvre un nouveau booster\, mais cette fois\, il doit passer les cartes au joueur situé à sa droite. Une fois que toutes ces cartes ont été choisies\, chacun fait la même chose avec le troisième booster\, en passant à nouveau les cartes au joueur situé à gauche. À la fin\, chaque joueur aura environ 45 cartes (et des terrains de base) pour construire un deck de 40 cartes. \nL’édition utilisée est choisie le soir même. Il s’agit généralement de la dernière édition éditée. \nFrais de participation : le prix des 3 boosters utilisés pour faire le draft. \nLots : cartes promo \n 
URL:https://shop.lemaitredejeux.ch/event/magic-tournoi-en-draft/2024-07-19/
LOCATION:Valais
CATEGORIES:Magic the Gathering
ATTACH;FMTTYPE=image/png:https://shop.lemaitredejeux.ch/wp-content/uploads/2024/06/mtg-transparent.png
END:VEVENT
BEGIN:VEVENT
DTSTART;TZID=Europe/Zurich:20240719T180000
DTEND;TZID=Europe/Zurich:20240719T210000
DTSTAMP:20260421T041519
CREATED:20240620T121452Z
LAST-MODIFIED:20240620T121452Z
UID:10001058-1721412000-1721422800@shop.lemaitredejeux.ch
SUMMARY:Magic : Tournoi en draft
DESCRIPTION:Un format dans lequel les joueurs ouvrent des boosters de cartes puis s’affrontent dans des parties à un contre un ! Chaque deck doit contenir au moins de 40 cartes et une partie devrait avoir une durée moyenne (environ 20 minutes). \nComment drafter : Tout d’abord\, les joueurs s’assoient autour d’une table\, en demi-cercle. Chaque joueur ouvre un booster et y choisit une seule carte\, sans la montrer aux autres joueurs. \nChaque joueur passe ensuite les cartes restantes à sa gauche\, puis continue à drafter avec les nouvelles cartes qu’il reçoit du joueur à sa droite. L’opération continue jusqu’à ce que toutes les cartes de ces boosters aient été choisies (draftées). Ensuite\, chaque joueur ouvre un nouveau booster\, mais cette fois\, il doit passer les cartes au joueur situé à sa droite. Une fois que toutes ces cartes ont été choisies\, chacun fait la même chose avec le troisième booster\, en passant à nouveau les cartes au joueur situé à gauche. À la fin\, chaque joueur aura environ 45 cartes (et des terrains de base) pour construire un deck de 40 cartes. \nL’édition utilisée est choisie le soir même. Il s’agit généralement de la dernière édition éditée. \nFrais de participation : le prix des 3 boosters utilisés pour faire le draft. \nLots : cartes promo \n 
URL:https://shop.lemaitredejeux.ch/event/magic-tournoi-en-draft/2024-07-19/
LOCATION:Valais
CATEGORIES:Magic the Gathering
ATTACH;FMTTYPE=image/png:https://shop.lemaitredejeux.ch/wp-content/uploads/2024/06/mtg-transparent.png
END:VEVENT
BEGIN:VEVENT
DTSTART;TZID=Europe/Zurich:20240726T180000
DTEND;TZID=Europe/Zurich:20240726T210000
DTSTAMP:20260421T041519
CREATED:20240620T123936Z
LAST-MODIFIED:20240620T124218Z
UID:10000084-1722016800-1722027600@shop.lemaitredejeux.ch
SUMMARY:Magic : Avant-première Bloomburrow
DESCRIPTION:ENVOLEZ-VOUS JUSQU’AU SOMMET DE LA CHAÎNE ALIMENTAIRE\n\nLe courage n’est pas une question de taille ! Pénétrez de patte ferme dans le monde de Bloomburrow. Quand les forces élémentaires se déchaînent\, le salut de Vallée repose sur les épaules de ses plus minuscules protecteurs. Combattez aux côtés de souris\, de grenouilles\, de chauves-souris\, de lézards\, d’écureuils et d’autres petites bêtes pour restaurer l’équilibre et la paix. \n  \nVenez découvrir en avant-première les cartes de la nouvelle édition Magic Bloomburrow. Chaque joueur recevra un kit pour faire son deck. \nFrais de participation : 40.- (incluant le kit de tournoi) \nFormat : scellé \nLots : boosters\, cartes promo et goodies.
URL:https://shop.lemaitredejeux.ch/event/magic-avant-premiere-bloomburrow/2024-07-26/
LOCATION:Le Maitre de Jeux\, Rue du Scex 49\, Sion\, Valais\, 1950\, Suisse
CATEGORIES:Magic the Gathering
ATTACH;FMTTYPE=image/png:https://shop.lemaitredejeux.ch/wp-content/uploads/2024/06/mtg-transparent.png
END:VEVENT
BEGIN:VEVENT
DTSTART;TZID=Europe/Zurich:20240726T180000
DTEND;TZID=Europe/Zurich:20240726T210000
DTSTAMP:20260421T041519
CREATED:20240727T092556Z
LAST-MODIFIED:20240912T133948Z
UID:10000156-1722016800-1722027600@shop.lemaitredejeux.ch
SUMMARY:Magic : Tournoi draft
DESCRIPTION:Un format dans lequel les joueurs ouvrent des boosters de cartes puis s’affrontent dans des parties à un contre un ! Chaque deck doit contenir au moins de 40 cartes et une partie devrait avoir une durée moyenne (environ 20 minutes). \nComment drafter : Tout d’abord\, les joueurs s’assoient autour d’une table\, en demi-cercle. Chaque joueur ouvre un booster et y choisit une seule carte\, sans la montrer aux autres joueurs. \nChaque joueur passe ensuite les cartes restantes à sa gauche\, puis continue à drafter avec les nouvelles cartes qu’il reçoit du joueur à sa droite. L’opération continue jusqu’à ce que toutes les cartes de ces boosters aient été choisies (draftées). Ensuite\, chaque joueur ouvre un nouveau booster\, mais cette fois\, il doit passer les cartes au joueur situé à sa droite. Une fois que toutes ces cartes ont été choisies\, chacun fait la même chose avec le troisième booster\, en passant à nouveau les cartes au joueur situé à gauche. À la fin\, chaque joueur aura environ 45 cartes (et des terrains de base) pour construire un deck de 40 cartes. \nL’édition utilisée est choisie le soir même. Il s’agit généralement de la dernière édition éditée. \nFrais de participation : le prix des 3 boosters utilisés pour faire le draft. \nLots : cartes promo
URL:https://shop.lemaitredejeux.ch/event/magic-tournoi-draft/2024-07-26/
LOCATION:Le Maitre de Jeux\, Rue du Scex 49\, Sion\, Valais\, 1950\, Suisse
CATEGORIES:Magic the Gathering
ATTACH;FMTTYPE=image/jpeg:https://shop.lemaitredejeux.ch/wp-content/uploads/2024/07/28c0611a3f.jpg
END:VEVENT
BEGIN:VEVENT
DTSTART;TZID=Europe/Zurich:20240727T100000
DTEND;TZID=Europe/Zurich:20240727T170000
DTSTAMP:20260421T041519
CREATED:20240620T123936Z
LAST-MODIFIED:20240620T124218Z
UID:10000085-1722074400-1722099600@shop.lemaitredejeux.ch
SUMMARY:Magic : Avant-première Bloomburrow
DESCRIPTION:ENVOLEZ-VOUS JUSQU’AU SOMMET DE LA CHAÎNE ALIMENTAIRE\n\nLe courage n’est pas une question de taille ! Pénétrez de patte ferme dans le monde de Bloomburrow. Quand les forces élémentaires se déchaînent\, le salut de Vallée repose sur les épaules de ses plus minuscules protecteurs. Combattez aux côtés de souris\, de grenouilles\, de chauves-souris\, de lézards\, d’écureuils et d’autres petites bêtes pour restaurer l’équilibre et la paix. \n  \nVenez découvrir en avant-première les cartes de la nouvelle édition Magic Bloomburrow. Chaque joueur recevra un kit pour faire son deck. \nFrais de participation : 40.- (incluant le kit de tournoi) \nFormat : scellé \nLots : boosters\, cartes promo et goodies.
URL:https://shop.lemaitredejeux.ch/event/magic-avant-premiere-bloomburrow/2024-07-27/
LOCATION:Le Maitre de Jeux\, Rue du Scex 49\, Sion\, Valais\, 1950\, Suisse
CATEGORIES:Magic the Gathering
ATTACH;FMTTYPE=image/png:https://shop.lemaitredejeux.ch/wp-content/uploads/2024/06/mtg-transparent.png
END:VEVENT
BEGIN:VEVENT
DTSTART;TZID=Europe/Zurich:20240727T100000
DTEND;TZID=Europe/Zurich:20240727T170000
DTSTAMP:20260421T041519
CREATED:20240620T123936Z
LAST-MODIFIED:20240620T123936Z
UID:10001065-1722074400-1722099600@shop.lemaitredejeux.ch
SUMMARY:Magic : Avant-première Bloomburrow
DESCRIPTION:ENVOLEZ-VOUS JUSQU’AU SOMMET DE LA CHAÎNE ALIMENTAIRE\n\nLe courage n’est pas une question de taille ! Pénétrez de patte ferme dans le monde de Bloomburrow. Quand les forces élémentaires se déchaînent\, le salut de Vallée repose sur les épaules de ses plus minuscules protecteurs. Combattez aux côtés de souris\, de grenouilles\, de chauves-souris\, de lézards\, d’écureuils et d’autres petites bêtes pour restaurer l’équilibre et la paix. \n  \nVenez découvrir en avant-première les cartes de la nouvelle édition Magic Bloomburrow. Chaque joueur recevra un kit pour faire son deck. \nFrais de participation : 40.- (incluant le kit de tournoi) \nFormat : scellé \nLots : boosters\, cartes promo et goodies.
URL:https://shop.lemaitredejeux.ch/event/magic-avant-premiere-bloomburrow/2024-07-27/
LOCATION:Le Maitre de Jeux\, Rue du Scex 49\, Sion\, Valais\, 1950\, Suisse
CATEGORIES:Magic the Gathering
ATTACH;FMTTYPE=image/png:https://shop.lemaitredejeux.ch/wp-content/uploads/2024/06/mtg-transparent.png
END:VEVENT
BEGIN:VEVENT
DTSTART;TZID=Europe/Zurich:20240727T180000
DTEND;TZID=Europe/Zurich:20240727T210000
DTSTAMP:20260421T041519
CREATED:20240620T121452Z
LAST-MODIFIED:20240727T085836Z
UID:10000079-1722103200-1722114000@shop.lemaitredejeux.ch
SUMMARY:Magic : Tournoi en draft
DESCRIPTION:Un format dans lequel les joueurs ouvrent des boosters de cartes puis s’affrontent dans des parties à un contre un ! Chaque deck doit contenir au moins de 40 cartes et une partie devrait avoir une durée moyenne (environ 20 minutes). \nComment drafter : Tout d’abord\, les joueurs s’assoient autour d’une table\, en demi-cercle. Chaque joueur ouvre un booster et y choisit une seule carte\, sans la montrer aux autres joueurs. \nChaque joueur passe ensuite les cartes restantes à sa gauche\, puis continue à drafter avec les nouvelles cartes qu’il reçoit du joueur à sa droite. L’opération continue jusqu’à ce que toutes les cartes de ces boosters aient été choisies (draftées). Ensuite\, chaque joueur ouvre un nouveau booster\, mais cette fois\, il doit passer les cartes au joueur situé à sa droite. Une fois que toutes ces cartes ont été choisies\, chacun fait la même chose avec le troisième booster\, en passant à nouveau les cartes au joueur situé à gauche. À la fin\, chaque joueur aura environ 45 cartes (et des terrains de base) pour construire un deck de 40 cartes. \nL’édition utilisée est choisie le soir même. Il s’agit généralement de la dernière édition éditée. \nFrais de participation : le prix des 3 boosters utilisés pour faire le draft. \nLots : cartes promo \n 
URL:https://shop.lemaitredejeux.ch/event/magic-tournoi-en-draft/
LOCATION:Le Maitre de Jeux\, Rue du Scex 49\, Sion\, Valais\, 1950\, Suisse
CATEGORIES:Magic the Gathering
ATTACH;FMTTYPE=image/png:https://shop.lemaitredejeux.ch/wp-content/uploads/2024/06/mtg-transparent.png
END:VEVENT
END:VCALENDAR