BEGIN:VCALENDAR
VERSION:2.0
PRODID:-//Le Maître de Jeux - ECPv6.15.18//NONSGML v1.0//EN
CALSCALE:GREGORIAN
METHOD:PUBLISH
X-ORIGINAL-URL:https://shop.lemaitredejeux.ch
X-WR-CALDESC:Évènements pour Le Maître de Jeux
REFRESH-INTERVAL;VALUE=DURATION:PT1H
X-Robots-Tag:noindex
X-PUBLISHED-TTL:PT1H
BEGIN:VTIMEZONE
TZID:Europe/Zurich
BEGIN:DAYLIGHT
TZOFFSETFROM:+0100
TZOFFSETTO:+0200
TZNAME:CEST
DTSTART:20230326T010000
END:DAYLIGHT
BEGIN:STANDARD
TZOFFSETFROM:+0200
TZOFFSETTO:+0100
TZNAME:CET
DTSTART:20231029T010000
END:STANDARD
BEGIN:DAYLIGHT
TZOFFSETFROM:+0100
TZOFFSETTO:+0200
TZNAME:CEST
DTSTART:20240331T010000
END:DAYLIGHT
BEGIN:STANDARD
TZOFFSETFROM:+0200
TZOFFSETTO:+0100
TZNAME:CET
DTSTART:20241027T010000
END:STANDARD
BEGIN:DAYLIGHT
TZOFFSETFROM:+0100
TZOFFSETTO:+0200
TZNAME:CEST
DTSTART:20250330T010000
END:DAYLIGHT
BEGIN:STANDARD
TZOFFSETFROM:+0200
TZOFFSETTO:+0100
TZNAME:CET
DTSTART:20251026T010000
END:STANDARD
END:VTIMEZONE
BEGIN:VEVENT
DTSTART;TZID=Europe/Zurich:20240810T133000
DTEND;TZID=Europe/Zurich:20240810T170000
DTSTAMP:20260420T100803
CREATED:20240718T140807Z
LAST-MODIFIED:20240724T074301Z
UID:10000066-1723296600-1723309200@shop.lemaitredejeux.ch
SUMMARY:Yu-Gi-Oh : 2025 OTS Championships
DESCRIPTION:Le championnat Yu-Gi-Oh ! OTS est un tournoi qui offre l’opportunité aux joueurs de gagner des invitations pour le WCQ 2025 : Championnat continental. \nFormat : construit \nRondes : 3 à 5 rondes en BO3 selon le nombre de participants \nLots :  \n\nLe gagnant de l’OTS Championship à l’issue des rondes remportera le tapis de jeu de l’OTS Championship (le design de ce tapis change à chaque saison)\nLe Top 2 remportera une invitation pour le Championnat d’Europe 2025\nBoosters pour tous les participants\n\nFrais de participation : 15.- \nInfos et inscriptions : info@lemaitredejeux.ch
URL:https://shop.lemaitredejeux.ch/event/yu-gi-oh-2025-ots-championships/
LOCATION:Le Maitre de Jeux\, Rue du Scex 49\, Sion\, Valais\, 1950\, Suisse
CATEGORIES:Yu-Gi-Oh
ATTACH;FMTTYPE=image/jpeg:https://shop.lemaitredejeux.ch/wp-content/uploads/2024/07/YGO.jpg
END:VEVENT
END:VCALENDAR