BEGIN:VCALENDAR
VERSION:2.0
PRODID:-//Le Maître de Jeux - ECPv6.15.18//NONSGML v1.0//EN
CALSCALE:GREGORIAN
METHOD:PUBLISH
X-ORIGINAL-URL:https://shop.lemaitredejeux.ch
X-WR-CALDESC:Évènements pour Le Maître de Jeux
REFRESH-INTERVAL;VALUE=DURATION:PT1H
X-Robots-Tag:noindex
X-PUBLISHED-TTL:PT1H
BEGIN:VTIMEZONE
TZID:Europe/Zurich
BEGIN:DAYLIGHT
TZOFFSETFROM:+0100
TZOFFSETTO:+0200
TZNAME:CEST
DTSTART:20230326T010000
END:DAYLIGHT
BEGIN:STANDARD
TZOFFSETFROM:+0200
TZOFFSETTO:+0100
TZNAME:CET
DTSTART:20231029T010000
END:STANDARD
BEGIN:DAYLIGHT
TZOFFSETFROM:+0100
TZOFFSETTO:+0200
TZNAME:CEST
DTSTART:20240331T010000
END:DAYLIGHT
BEGIN:STANDARD
TZOFFSETFROM:+0200
TZOFFSETTO:+0100
TZNAME:CET
DTSTART:20241027T010000
END:STANDARD
BEGIN:DAYLIGHT
TZOFFSETFROM:+0100
TZOFFSETTO:+0200
TZNAME:CEST
DTSTART:20250330T010000
END:DAYLIGHT
BEGIN:STANDARD
TZOFFSETFROM:+0200
TZOFFSETTO:+0100
TZNAME:CET
DTSTART:20251026T010000
END:STANDARD
END:VTIMEZONE
BEGIN:VEVENT
DTSTART;TZID=Europe/Zurich:20241001T100000
DTEND;TZID=Europe/Zurich:20241001T200000
DTSTAMP:20260423T144832
CREATED:20240803T124303Z
LAST-MODIFIED:20240803T124518Z
UID:10000221-1727776800-1727812800@shop.lemaitredejeux.ch
SUMMARY:Foire du Valais
DESCRIPTION:En collaboration avec Trapgame\, nous aurons le plaisir de vous accueillir à notre stand lors de la Foire du Valais 2024 ! \nComme le thème de la Foire sera le jeu\, il nous est apparu évident de faire partie de cette aventure de 10 jours. Et puisque nous fêtons cette année nos 30 ans\, nous aurons une création unique réalisée en partenariat  avec Trapgame à vous proposer en avant-première. \nEn parallèle\, il y aura plusieurs tables pour vous faire jouer à une sélection de jeux qu’on se fera un plaisir de vous expliquer. Vous pourrez\, s’ils vous plaisent\, les acheter directement sur place. \nPlusieurs partenaires viendront également animer le stand à certains moments.
URL:https://shop.lemaitredejeux.ch/event/foire-du-valais/2024-10-01/
LOCATION:Le Maitre de Jeux\, Rue du Scex 49\, Sion\, Valais\, 1950\, Suisse
CATEGORIES:Events
ATTACH;FMTTYPE=image/jpeg:https://shop.lemaitredejeux.ch/wp-content/uploads/2024/08/fdv-1.jpg
END:VEVENT
BEGIN:VEVENT
DTSTART;TZID=Europe/Zurich:20241002T100000
DTEND;TZID=Europe/Zurich:20241002T200000
DTSTAMP:20260423T144832
CREATED:20240803T124303Z
LAST-MODIFIED:20240803T124518Z
UID:10000222-1727863200-1727899200@shop.lemaitredejeux.ch
SUMMARY:Foire du Valais
DESCRIPTION:En collaboration avec Trapgame\, nous aurons le plaisir de vous accueillir à notre stand lors de la Foire du Valais 2024 ! \nComme le thème de la Foire sera le jeu\, il nous est apparu évident de faire partie de cette aventure de 10 jours. Et puisque nous fêtons cette année nos 30 ans\, nous aurons une création unique réalisée en partenariat  avec Trapgame à vous proposer en avant-première. \nEn parallèle\, il y aura plusieurs tables pour vous faire jouer à une sélection de jeux qu’on se fera un plaisir de vous expliquer. Vous pourrez\, s’ils vous plaisent\, les acheter directement sur place. \nPlusieurs partenaires viendront également animer le stand à certains moments.
URL:https://shop.lemaitredejeux.ch/event/foire-du-valais/2024-10-02/
LOCATION:Le Maitre de Jeux\, Rue du Scex 49\, Sion\, Valais\, 1950\, Suisse
CATEGORIES:Events
ATTACH;FMTTYPE=image/jpeg:https://shop.lemaitredejeux.ch/wp-content/uploads/2024/08/fdv-1.jpg
END:VEVENT
BEGIN:VEVENT
DTSTART;TZID=Europe/Zurich:20241002T133000
DTEND;TZID=Europe/Zurich:20241002T163000
DTSTAMP:20260423T144832
CREATED:20240925T090748Z
LAST-MODIFIED:20240925T090748Z
UID:10000243-1727875800-1727886600@shop.lemaitredejeux.ch
SUMMARY:Présentation des jeux Laboludic
DESCRIPTION:Sur notre stand à la Foire du Valais\, nous aurons le plaisir d’accueillir Coralie d’OLF pour nous présenter plusieurs jeux pour enfants de la gamme Laboludic (Kamakai\, Golden Creek\, Kezao et Deep River). \n  \nDe plus des goodies seront à gagner !
URL:https://shop.lemaitredejeux.ch/event/presentation-des-jeux-laboludic/
LOCATION:Valais
CATEGORIES:Events
ATTACH;FMTTYPE=image/jpeg:https://shop.lemaitredejeux.ch/wp-content/uploads/2024/09/Jeu-d-ambiance-Laboludic-Kezao.jpg
END:VEVENT
BEGIN:VEVENT
DTSTART;TZID=Europe/Zurich:20241003T100000
DTEND;TZID=Europe/Zurich:20241003T200000
DTSTAMP:20260423T144832
CREATED:20240803T124303Z
LAST-MODIFIED:20240803T124518Z
UID:10000223-1727949600-1727985600@shop.lemaitredejeux.ch
SUMMARY:Foire du Valais
DESCRIPTION:En collaboration avec Trapgame\, nous aurons le plaisir de vous accueillir à notre stand lors de la Foire du Valais 2024 ! \nComme le thème de la Foire sera le jeu\, il nous est apparu évident de faire partie de cette aventure de 10 jours. Et puisque nous fêtons cette année nos 30 ans\, nous aurons une création unique réalisée en partenariat  avec Trapgame à vous proposer en avant-première. \nEn parallèle\, il y aura plusieurs tables pour vous faire jouer à une sélection de jeux qu’on se fera un plaisir de vous expliquer. Vous pourrez\, s’ils vous plaisent\, les acheter directement sur place. \nPlusieurs partenaires viendront également animer le stand à certains moments.
URL:https://shop.lemaitredejeux.ch/event/foire-du-valais/2024-10-03/
LOCATION:Le Maitre de Jeux\, Rue du Scex 49\, Sion\, Valais\, 1950\, Suisse
CATEGORIES:Events
ATTACH;FMTTYPE=image/jpeg:https://shop.lemaitredejeux.ch/wp-content/uploads/2024/08/fdv-1.jpg
END:VEVENT
BEGIN:VEVENT
DTSTART;TZID=Europe/Zurich:20241004T100000
DTEND;TZID=Europe/Zurich:20241004T200000
DTSTAMP:20260423T144832
CREATED:20240803T124303Z
LAST-MODIFIED:20240803T124518Z
UID:10000224-1728036000-1728072000@shop.lemaitredejeux.ch
SUMMARY:Foire du Valais
DESCRIPTION:En collaboration avec Trapgame\, nous aurons le plaisir de vous accueillir à notre stand lors de la Foire du Valais 2024 ! \nComme le thème de la Foire sera le jeu\, il nous est apparu évident de faire partie de cette aventure de 10 jours. Et puisque nous fêtons cette année nos 30 ans\, nous aurons une création unique réalisée en partenariat  avec Trapgame à vous proposer en avant-première. \nEn parallèle\, il y aura plusieurs tables pour vous faire jouer à une sélection de jeux qu’on se fera un plaisir de vous expliquer. Vous pourrez\, s’ils vous plaisent\, les acheter directement sur place. \nPlusieurs partenaires viendront également animer le stand à certains moments.
URL:https://shop.lemaitredejeux.ch/event/foire-du-valais/2024-10-04/
LOCATION:Le Maitre de Jeux\, Rue du Scex 49\, Sion\, Valais\, 1950\, Suisse
CATEGORIES:Events
ATTACH;FMTTYPE=image/jpeg:https://shop.lemaitredejeux.ch/wp-content/uploads/2024/08/fdv-1.jpg
END:VEVENT
BEGIN:VEVENT
DTSTART;TZID=Europe/Zurich:20241004T180000
DTEND;TZID=Europe/Zurich:20241004T210000
DTSTAMP:20260423T144832
CREATED:20240927T095746Z
LAST-MODIFIED:20241007T142636Z
UID:10000246-1728064800-1728075600@shop.lemaitredejeux.ch
SUMMARY:Flesh & Blood : Armory Event
DESCRIPTION:  \n  \n  \nChaque vendredi à 18h\, nous vous proposons un armory event. Le format est décidé quelques jours avant par les joueurs entre construit\, blitz\, draft et scellé. \nVous pouvez nous contacter à info@lemaitredejeux.ch pour connaître le format ou pour rejoindre notre groupe Whats App.
URL:https://shop.lemaitredejeux.ch/event/flesh-blood-armory-event-4/2024-10-04/
LOCATION:Le Maitre de Jeux\, Rue du Scex 49\, Sion\, Valais\, 1950\, Suisse
CATEGORIES:Flesh & Blood
ATTACH;FMTTYPE=image/webp:https://shop.lemaitredejeux.ch/wp-content/uploads/2024/09/Flesh_and_Blood_Logo.webp
END:VEVENT
BEGIN:VEVENT
DTSTART;TZID=Europe/Zurich:20241004T180000
DTEND;TZID=Europe/Zurich:20241004T220000
DTSTAMP:20260423T144832
CREATED:20240925T131703Z
LAST-MODIFIED:20241003T162907Z
UID:10000244-1728064800-1728079200@shop.lemaitredejeux.ch
SUMMARY:Star Wars Unlimited : Store Showdown 2
DESCRIPTION:Pour la première fois en Suisse romande\, nous aurons la joie d’accueillir un store showdown ! \nIl s’agit d’un tournoi au cours duquel chaque participant et les meilleurs joueurs classés recevront des lots inédits. C’est l’évènement le plus compétitif auquel vous aurez accès dans le cadre du Jeu Occasionnel\, mais toujours avec cet esprit de convivialité et de découverte qui est la marque du Jeu Occasionnel. C’est le moment idéal pour faire vos premières armes avant de passer au Jeu Compétitif ! \nFormat : construit (best of three) \nDecklist obligatoire. \nLe détail des lots suivra.
URL:https://shop.lemaitredejeux.ch/event/star-wars-unlimited-store-showdown-2/
LOCATION:Le Maitre de Jeux\, Rue du Scex 49\, Sion\, Valais\, 1950\, Suisse
CATEGORIES:Star Wars Unlimited
ATTACH;FMTTYPE=image/jpeg:https://shop.lemaitredejeux.ch/wp-content/uploads/2024/07/Star_Wars_Unlimited_Header.jpg
END:VEVENT
BEGIN:VEVENT
DTSTART;TZID=Europe/Zurich:20241005T100000
DTEND;TZID=Europe/Zurich:20241005T200000
DTSTAMP:20260423T144832
CREATED:20240803T124303Z
LAST-MODIFIED:20240803T124518Z
UID:10000225-1728122400-1728158400@shop.lemaitredejeux.ch
SUMMARY:Foire du Valais
DESCRIPTION:En collaboration avec Trapgame\, nous aurons le plaisir de vous accueillir à notre stand lors de la Foire du Valais 2024 ! \nComme le thème de la Foire sera le jeu\, il nous est apparu évident de faire partie de cette aventure de 10 jours. Et puisque nous fêtons cette année nos 30 ans\, nous aurons une création unique réalisée en partenariat  avec Trapgame à vous proposer en avant-première. \nEn parallèle\, il y aura plusieurs tables pour vous faire jouer à une sélection de jeux qu’on se fera un plaisir de vous expliquer. Vous pourrez\, s’ils vous plaisent\, les acheter directement sur place. \nPlusieurs partenaires viendront également animer le stand à certains moments.
URL:https://shop.lemaitredejeux.ch/event/foire-du-valais/2024-10-05/
LOCATION:Le Maitre de Jeux\, Rue du Scex 49\, Sion\, Valais\, 1950\, Suisse
CATEGORIES:Events
ATTACH;FMTTYPE=image/jpeg:https://shop.lemaitredejeux.ch/wp-content/uploads/2024/08/fdv-1.jpg
END:VEVENT
BEGIN:VEVENT
DTSTART;TZID=Europe/Zurich:20241005T133000
DTEND;TZID=Europe/Zurich:20241005T163000
DTSTAMP:20260423T144832
CREATED:20240925T085715Z
LAST-MODIFIED:20240925T090331Z
UID:10000242-1728135000-1728145800@shop.lemaitredejeux.ch
SUMMARY:Yu-Gi-Oh : La Rage des Abysses – Premiere !
DESCRIPTION:Venez découvrir en avant-première la nouvelle édition Yu-Gi-Oh : La rage des Abysses. \nChaque joueur recevra 5 boosters pour faire son deck. \nLe format sera le scellé et les parties se joueront en best of three. \nVous aurez aussi la possibilité d’acheter des boosters de cette édition en avant-première. \nFrais de participation : 25.- \nLots : playmat\, carte promo et field center
URL:https://shop.lemaitredejeux.ch/event/yu-gi-oh-la-rage-des-abysses-premiere/
LOCATION:Le Maitre de Jeux\, Rue du Scex 49\, Sion\, Valais\, 1950\, Suisse
CATEGORIES:Yu-Gi-Oh
ATTACH;FMTTYPE=image/webp:https://shop.lemaitredejeux.ch/wp-content/uploads/2024/09/FR-ROTA-Promo-FS.webp
END:VEVENT
BEGIN:VEVENT
DTSTART;TZID=Europe/Zurich:20241006T100000
DTEND;TZID=Europe/Zurich:20241006T200000
DTSTAMP:20260423T144832
CREATED:20240803T124303Z
LAST-MODIFIED:20240803T124518Z
UID:10000226-1728208800-1728244800@shop.lemaitredejeux.ch
SUMMARY:Foire du Valais
DESCRIPTION:En collaboration avec Trapgame\, nous aurons le plaisir de vous accueillir à notre stand lors de la Foire du Valais 2024 ! \nComme le thème de la Foire sera le jeu\, il nous est apparu évident de faire partie de cette aventure de 10 jours. Et puisque nous fêtons cette année nos 30 ans\, nous aurons une création unique réalisée en partenariat  avec Trapgame à vous proposer en avant-première. \nEn parallèle\, il y aura plusieurs tables pour vous faire jouer à une sélection de jeux qu’on se fera un plaisir de vous expliquer. Vous pourrez\, s’ils vous plaisent\, les acheter directement sur place. \nPlusieurs partenaires viendront également animer le stand à certains moments.
URL:https://shop.lemaitredejeux.ch/event/foire-du-valais/2024-10-06/
LOCATION:Le Maitre de Jeux\, Rue du Scex 49\, Sion\, Valais\, 1950\, Suisse
CATEGORIES:Events
ATTACH;FMTTYPE=image/jpeg:https://shop.lemaitredejeux.ch/wp-content/uploads/2024/08/fdv-1.jpg
END:VEVENT
BEGIN:VEVENT
DTSTART;TZID=Europe/Zurich:20241009T140000
DTEND;TZID=Europe/Zurich:20241009T170000
DTSTAMP:20260423T144832
CREATED:20241008T205833Z
LAST-MODIFIED:20241008T210706Z
UID:10000310-1728482400-1728493200@shop.lemaitredejeux.ch
SUMMARY:Lorcana : tournoi construit
DESCRIPTION:Format : construit BO3 \nFrais de participation : 12.- \nLots : boosters et cartes promo
URL:https://shop.lemaitredejeux.ch/event/lorcana-tournoi-construit-3/
LOCATION:Le Maitre de Jeux\, Rue du Scex 49\, Sion\, Valais\, 1950\, Suisse
CATEGORIES:Lorcana
ATTACH;FMTTYPE=image/avif:https://shop.lemaitredejeux.ch/wp-content/uploads/2024/06/disney-lorcana-how-to-play.avif
END:VEVENT
BEGIN:VEVENT
DTSTART;TZID=Europe/Zurich:20241011T180000
DTEND;TZID=Europe/Zurich:20241011T210000
DTSTAMP:20260423T144832
CREATED:20240927T095746Z
LAST-MODIFIED:20241007T142636Z
UID:10000247-1728669600-1728680400@shop.lemaitredejeux.ch
SUMMARY:Flesh & Blood : Armory Event
DESCRIPTION:  \n  \n  \nChaque vendredi à 18h\, nous vous proposons un armory event. Le format est décidé quelques jours avant par les joueurs entre construit\, blitz\, draft et scellé. \nVous pouvez nous contacter à info@lemaitredejeux.ch pour connaître le format ou pour rejoindre notre groupe Whats App.
URL:https://shop.lemaitredejeux.ch/event/flesh-blood-armory-event-4/2024-10-11/
LOCATION:Le Maitre de Jeux\, Rue du Scex 49\, Sion\, Valais\, 1950\, Suisse
CATEGORIES:Flesh & Blood
ATTACH;FMTTYPE=image/webp:https://shop.lemaitredejeux.ch/wp-content/uploads/2024/09/Flesh_and_Blood_Logo.webp
END:VEVENT
BEGIN:VEVENT
DTSTART;TZID=Europe/Zurich:20241012T140000
DTEND;TZID=Europe/Zurich:20241012T170000
DTSTAMP:20260423T144832
CREATED:20241007T151123Z
LAST-MODIFIED:20241007T151123Z
UID:10000309-1728741600-1728752400@shop.lemaitredejeux.ch
SUMMARY:Altered : tournoi en format construit
DESCRIPTION:Format : construit \nLots : pool de 2 boosters KS par joueur. Minimum 1 booster par participant. \nFrais d’inscription : 12.-
URL:https://shop.lemaitredejeux.ch/event/altered-tournoi-en-format-construit/
LOCATION:Le Maitre de Jeux\, Rue du Scex 49\, Sion\, Valais\, 1950\, Suisse
CATEGORIES:Altered
ATTACH;FMTTYPE=image/jpeg:https://shop.lemaitredejeux.ch/wp-content/uploads/2024/09/altered_homepage_push_background-scaled-1.jpg
END:VEVENT
BEGIN:VEVENT
DTSTART;TZID=Europe/Zurich:20241018T180000
DTEND;TZID=Europe/Zurich:20241018T210000
DTSTAMP:20260423T144832
CREATED:20240927T095746Z
LAST-MODIFIED:20241007T142636Z
UID:10000248-1729274400-1729285200@shop.lemaitredejeux.ch
SUMMARY:Flesh & Blood : Armory Event
DESCRIPTION:  \n  \n  \nChaque vendredi à 18h\, nous vous proposons un armory event. Le format est décidé quelques jours avant par les joueurs entre construit\, blitz\, draft et scellé. \nVous pouvez nous contacter à info@lemaitredejeux.ch pour connaître le format ou pour rejoindre notre groupe Whats App.
URL:https://shop.lemaitredejeux.ch/event/flesh-blood-armory-event-4/2024-10-18/
LOCATION:Le Maitre de Jeux\, Rue du Scex 49\, Sion\, Valais\, 1950\, Suisse
CATEGORIES:Flesh & Blood
ATTACH;FMTTYPE=image/webp:https://shop.lemaitredejeux.ch/wp-content/uploads/2024/09/Flesh_and_Blood_Logo.webp
END:VEVENT
BEGIN:VEVENT
DTSTART;TZID=Europe/Zurich:20241019T090000
DTEND;TZID=Europe/Zurich:20241019T170000
DTSTAMP:20260423T144832
CREATED:20240827T101256Z
LAST-MODIFIED:20241015T134157Z
UID:10000234-1729328400-1729357200@shop.lemaitredejeux.ch
SUMMARY:Lorcana : Shimmering Skies Championship
DESCRIPTION:Le magasin ouvrira exceptionnellement à 8h40 pour que le tournoi puisse bien débuter à 9h. \nInfos pratiques : \n\nTournoi en format construit\nDecklist obligatoire\nLes frais de participation se montent à 20.-\nLes 2 finalistes remportent un playmat et le top 8 une Mirabelle enchantée\nBooster à gagner. Minimum un par participant\nSelon le nombre de participants\, il y aura 4 ou 5 rondes en BO3 de 50 minutes suivies d’un top 8
URL:https://shop.lemaitredejeux.ch/event/lorcana-shimmering-skies-championship/
LOCATION:Le Maitre de Jeux\, Rue du Scex 49\, Sion\, Valais\, 1950\, Suisse
CATEGORIES:Lorcana
ATTACH;FMTTYPE=image/webp:https://shop.lemaitredejeux.ch/wp-content/uploads/2024/07/Disney-Lorcana-Ciel-Scintillant.webp
END:VEVENT
BEGIN:VEVENT
DTSTART;TZID=Europe/Zurich:20241019T130000
DTEND;TZID=Europe/Zurich:20241019T170000
DTSTAMP:20260423T144832
CREATED:20240612T080903Z
LAST-MODIFIED:20241012T092155Z
UID:10000071-1729342800-1729357200@shop.lemaitredejeux.ch
SUMMARY:Magic : Tournoi Pauper
DESCRIPTION:Le pauper est un format dans lequel seules les cartes communes sont autorisées. L’ambiance est détendue et le plaisir du jeu prime sur l’aspect compétitif. Les joueurs débutant comme expérimentés\, enfants comme adultes\, sont les bienvenus ! Il y a également la possibilité de se faire prêter un deck. \nFrais de participation : 6.- \nLots : bons cadeaux pour notre boutique \nInformations et inscriptions : Julien au 079 568 63 25 ou info@lemaitredejeux.ch \nIl est vivement conseillé de s’inscrire à l’avance car on joue régulièrement à guichets fermés 🙂
URL:https://shop.lemaitredejeux.ch/event/magic-tournoi-pauper-5/
LOCATION:Le Maitre de Jeux\, Rue du Scex 49\, Sion\, Valais\, 1950\, Suisse
CATEGORIES:Magic the Gathering
ATTACH;FMTTYPE=image/png:https://shop.lemaitredejeux.ch/wp-content/uploads/2024/06/mtg-transparent.png
END:VEVENT
BEGIN:VEVENT
DTSTART;TZID=Europe/Zurich:20241019T130000
DTEND;TZID=Europe/Zurich:20241019T200000
DTSTAMP:20260423T144832
CREATED:20240718T134237Z
LAST-MODIFIED:20240718T134237Z
UID:10001073-1729342800-1729368000@shop.lemaitredejeux.ch
SUMMARY:Jeux de figurines
DESCRIPTION:Venez participer ou simplement observer des parties de jeux de figurines (Age of Sigmar\, Warhammer 40K\, Warcry\, Killteam\, Necromunda ou Underworld) entre 13h30 et 20h. \nL’entrée est libre. L’adresse est : Maison des Jeunes\, Rue Centrale 26\, 1964 Conthey. \nPour toute question\, vous pouvez nous contacter à info@lemaitredejeux.ch
URL:https://shop.lemaitredejeux.ch/event/jeux-de-figurines-2/2024-10-19/
LOCATION:Maison des jeunes de Conthey\, Rue Centrale 26\, Conthey\, Valais\, 1964\, Suisse
CATEGORIES:Jeux de figurines
ATTACH;FMTTYPE=image/jpeg:https://shop.lemaitredejeux.ch/wp-content/uploads/2024/07/joy-toy-cn-jt2238-warhammer-40k-figurine-1-18-chaos-space-marine-03-.jpg
END:VEVENT
BEGIN:VEVENT
DTSTART;TZID=Europe/Zurich:20241019T130000
DTEND;TZID=Europe/Zurich:20241019T200000
DTSTAMP:20260423T144833
CREATED:20240718T134237Z
LAST-MODIFIED:20240718T134237Z
UID:10000091-1729342800-1729368000@shop.lemaitredejeux.ch
SUMMARY:Jeux de figurines
DESCRIPTION:Venez participer ou simplement observer des parties de jeux de figurines (Age of Sigmar\, Warhammer 40K\, Warcry\, Killteam\, Necromunda ou Underworld) entre 13h30 et 20h. \nL’entrée est libre. L’adresse est : Maison des Jeunes\, Rue Centrale 26\, 1964 Conthey. \nPour toute question\, vous pouvez nous contacter à info@lemaitredejeux.ch
URL:https://shop.lemaitredejeux.ch/event/jeux-de-figurines-2/2024-10-19/
LOCATION:Maison des jeunes de Conthey\, Rue Centrale 26\, Conthey\, Valais\, 1964\, Suisse
CATEGORIES:Jeux de figurines
ATTACH;FMTTYPE=image/jpeg:https://shop.lemaitredejeux.ch/wp-content/uploads/2024/07/joy-toy-cn-jt2238-warhammer-40k-figurine-1-18-chaos-space-marine-03-.jpg
END:VEVENT
BEGIN:VEVENT
DTSTART;TZID=Europe/Zurich:20241019T130000
DTEND;TZID=Europe/Zurich:20241019T200000
DTSTAMP:20260423T144833
CREATED:20240718T134237Z
LAST-MODIFIED:20240718T134237Z
UID:10001068-1729342800-1729368000@shop.lemaitredejeux.ch
SUMMARY:Jeux de figurines
DESCRIPTION:Venez participer ou simplement observer des parties de jeux de figurines (Age of Sigmar\, Warhammer 40K\, Warcry\, Killteam\, Necromunda ou Underworld) entre 13h30 et 20h. \nL’entrée est libre. L’adresse est : Maison des Jeunes\, Rue Centrale 26\, 1964 Conthey. \nPour toute question\, vous pouvez nous contacter à info@lemaitredejeux.ch
URL:https://shop.lemaitredejeux.ch/event/jeux-de-figurines-2/2024-10-19/
LOCATION:Maison des jeunes de Conthey\, Rue Centrale 26\, Conthey\, Valais\, 1964\, Suisse
CATEGORIES:Jeux de figurines
ATTACH;FMTTYPE=image/jpeg:https://shop.lemaitredejeux.ch/wp-content/uploads/2024/07/joy-toy-cn-jt2238-warhammer-40k-figurine-1-18-chaos-space-marine-03-.jpg
END:VEVENT
BEGIN:VEVENT
DTSTART;TZID=Europe/Zurich:20241019T130000
DTEND;TZID=Europe/Zurich:20241019T200000
DTSTAMP:20260423T144833
CREATED:20240718T134237Z
LAST-MODIFIED:20240718T134237Z
UID:10001071-1729342800-1729368000@shop.lemaitredejeux.ch
SUMMARY:Jeux de figurines
DESCRIPTION:Venez participer ou simplement observer des parties de jeux de figurines (Age of Sigmar\, Warhammer 40K\, Warcry\, Killteam\, Necromunda ou Underworld) entre 13h30 et 20h. \nL’entrée est libre. L’adresse est : Maison des Jeunes\, Rue Centrale 26\, 1964 Conthey. \nPour toute question\, vous pouvez nous contacter à info@lemaitredejeux.ch
URL:https://shop.lemaitredejeux.ch/event/jeux-de-figurines-2/2024-10-19/
LOCATION:Maison des jeunes de Conthey\, Rue Centrale 26\, Conthey\, Valais\, 1964\, Suisse
CATEGORIES:Jeux de figurines
ATTACH;FMTTYPE=image/jpeg:https://shop.lemaitredejeux.ch/wp-content/uploads/2024/07/joy-toy-cn-jt2238-warhammer-40k-figurine-1-18-chaos-space-marine-03-.jpg
END:VEVENT
BEGIN:VEVENT
DTSTART;TZID=Europe/Zurich:20241020T103000
DTEND;TZID=Europe/Zurich:20241020T203000
DTSTAMP:20260423T144833
CREATED:20240827T100043Z
LAST-MODIFIED:20240827T100410Z
UID:10000233-1729420200-1729456200@shop.lemaitredejeux.ch
SUMMARY:Flesh & Blood : Pro Quest Europe
DESCRIPTION:Nous aurons la joie d’accueillir le Pro Quest Europe ! Il s’agit d’un tournoi de catégorie supérieure avec de superbes lots à gagner et une place qualificative au Pro Tour pour le vainqueur. \nOuverture des portes : 9h30 \nDébut du tournoi : 10h30 \nFormat : draft \nInformations et inscriptions : info@lemaitredejeux.ch \nFrais de participation : 50.- (comprenant les boosters pour les 2 drafts et le draft supplémentaire pour le top 8 ainsi que les lots mentionnés ci-dessous). \n  \n\n\n\nPrix\nRépartition des lots\n\n\n\n\n1x Carte Gold Cold Foil aléatoire (courante\, rare\, ou majestueuse)\nLe vainqueur du tournoi remporte l’enveloppe noire scellée une fois toutes les rondes du top 8 terminées. L’enveloppe contient une carte de prix aléatoire de rareté courante\, rare\, ou majestic PCG 9 ou supérieure.\n\n\n8x Cartes de Héros promo rainbow foil\nDistribuées aléatoirement aux joueurs du top 8 à la fin des rondes suisses.\n\n\n2x tapis de jeu\nAttribuées aux joueurs classés premier et deuxième.\n\n\n16x ???? Cartes promo Rainbow Foil\nSelon le classement\n\n\n16x ???? Cartes promo Rainbow Foil\nSelon le classement\n\n\n1x Invitation au Pro Tour\nL’invitation au Pro Tour est décernée au vainqueur du tournoi (ou au finaliste si le vainqueur s’est déjà qualifié via un événement Pro Quest dans un autre magasin).\n\n\n1x Judge Pack & 1x Tapis de jeu d’arbitre Brutus\nAttribués à l’arbitre en chef et à l’arbitre de l’événement une fois ce dernier terminé.
URL:https://shop.lemaitredejeux.ch/event/flesh-blood-pro-quest-europe/
LOCATION:Le Maitre de Jeux\, Rue du Scex 49\, Sion\, Valais\, 1950\, Suisse
CATEGORIES:Flesh & Blood
ATTACH;FMTTYPE=image/webp:https://shop.lemaitredejeux.ch/wp-content/uploads/2024/08/pq_s6_marketing_FB_POST.width-10000.format-webp.webp
END:VEVENT
BEGIN:VEVENT
DTSTART;TZID=Europe/Zurich:20241025T180000
DTEND;TZID=Europe/Zurich:20241025T210000
DTSTAMP:20260423T144833
CREATED:20240927T095746Z
LAST-MODIFIED:20241007T142636Z
UID:10000249-1729879200-1729890000@shop.lemaitredejeux.ch
SUMMARY:Flesh & Blood : Armory Event
DESCRIPTION:  \n  \n  \nChaque vendredi à 18h\, nous vous proposons un armory event. Le format est décidé quelques jours avant par les joueurs entre construit\, blitz\, draft et scellé. \nVous pouvez nous contacter à info@lemaitredejeux.ch pour connaître le format ou pour rejoindre notre groupe Whats App.
URL:https://shop.lemaitredejeux.ch/event/flesh-blood-armory-event-4/2024-10-25/
LOCATION:Le Maitre de Jeux\, Rue du Scex 49\, Sion\, Valais\, 1950\, Suisse
CATEGORIES:Flesh & Blood
ATTACH;FMTTYPE=image/webp:https://shop.lemaitredejeux.ch/wp-content/uploads/2024/09/Flesh_and_Blood_Logo.webp
END:VEVENT
BEGIN:VEVENT
DTSTART;TZID=Europe/Zurich:20241025T180000
DTEND;TZID=Europe/Zurich:20241025T210000
DTSTAMP:20260423T144833
CREATED:20241024T081524Z
LAST-MODIFIED:20241024T081524Z
UID:10000314-1729879200-1729890000@shop.lemaitredejeux.ch
SUMMARY:Magic : tournoi draft
DESCRIPTION:Chaque joueur recevra 3 boosters pour le draft. \nFrais de participation : selon le type de boosters choisis \nLots : cartes promo \nInfos et inscriptions : info@lemaitredejeux.ch
URL:https://shop.lemaitredejeux.ch/event/magic-tournoi-draft-2/
LOCATION:Le Maitre de Jeux\, Rue du Scex 49\, Sion\, Valais\, 1950\, Suisse
CATEGORIES:Magic the Gathering
ATTACH;FMTTYPE=image/png:https://shop.lemaitredejeux.ch/wp-content/uploads/2024/10/fd6kft3wyaixr5y.png
END:VEVENT
BEGIN:VEVENT
DTSTART;TZID=Europe/Zurich:20241026T093000
DTEND;TZID=Europe/Zurich:20241026T130000
DTSTAMP:20260423T144833
CREATED:20241024T074433Z
LAST-MODIFIED:20241024T074433Z
UID:10000312-1729935000-1729947600@shop.lemaitredejeux.ch
SUMMARY:Lorcana : tournoi en format construit
DESCRIPTION:Format : construit \nFrais de participation : 12.- \nPool de 2 boosters par participant. Chacun en recevra 1 minimum et davantage selon le classement (+ carte promo). \nInfo et inscriptions : info@lemaitredejeux.ch
URL:https://shop.lemaitredejeux.ch/event/lorcana-tournoi-en-format-construit/
LOCATION:Le Maitre de Jeux\, Rue du Scex 49\, Sion\, Valais\, 1950\, Suisse
CATEGORIES:Lorcana
ATTACH;FMTTYPE=image/avif:https://shop.lemaitredejeux.ch/wp-content/uploads/2024/06/disney-lorcana-how-to-play.avif
END:VEVENT
BEGIN:VEVENT
DTSTART;TZID=Europe/Zurich:20241026T100000
DTEND;TZID=Europe/Zurich:20241026T120000
DTSTAMP:20260423T144833
CREATED:20241008T210334Z
LAST-MODIFIED:20241008T210503Z
UID:10000311-1729936800-1729944000@shop.lemaitredejeux.ch
SUMMARY:Découverte de jeux
DESCRIPTION:L’espace d’une matinée\, nous aurons le plaisir de vous faire découvrir plusieurs jeux récents. \nEntrée libre. \nMerci de vous annoncer pour des questions d’organisation à info@lemaitredejeux.ch
URL:https://shop.lemaitredejeux.ch/event/decouverte-de-jeux-3/
LOCATION:Le Maitre de Jeux\, Rue du Scex 49\, Sion\, Valais\, 1950\, Suisse
CATEGORIES:Events
ATTACH;FMTTYPE=image/jpeg:https://shop.lemaitredejeux.ch/wp-content/uploads/2024/10/download-1.jpg
END:VEVENT
END:VCALENDAR