BEGIN:VCALENDAR
VERSION:2.0
PRODID:-//Le Maître de Jeux - ECPv6.15.18//NONSGML v1.0//EN
CALSCALE:GREGORIAN
METHOD:PUBLISH
X-WR-CALNAME:Le Maître de Jeux
X-ORIGINAL-URL:https://shop.lemaitredejeux.ch
X-WR-CALDESC:Évènements pour Le Maître de Jeux
REFRESH-INTERVAL;VALUE=DURATION:PT1H
X-Robots-Tag:noindex
X-PUBLISHED-TTL:PT1H
BEGIN:VTIMEZONE
TZID:Europe/Zurich
BEGIN:DAYLIGHT
TZOFFSETFROM:+0100
TZOFFSETTO:+0200
TZNAME:CEST
DTSTART:20230326T010000
END:DAYLIGHT
BEGIN:STANDARD
TZOFFSETFROM:+0200
TZOFFSETTO:+0100
TZNAME:CET
DTSTART:20231029T010000
END:STANDARD
BEGIN:DAYLIGHT
TZOFFSETFROM:+0100
TZOFFSETTO:+0200
TZNAME:CEST
DTSTART:20240331T010000
END:DAYLIGHT
BEGIN:STANDARD
TZOFFSETFROM:+0200
TZOFFSETTO:+0100
TZNAME:CET
DTSTART:20241027T010000
END:STANDARD
BEGIN:DAYLIGHT
TZOFFSETFROM:+0100
TZOFFSETTO:+0200
TZNAME:CEST
DTSTART:20250330T010000
END:DAYLIGHT
BEGIN:STANDARD
TZOFFSETFROM:+0200
TZOFFSETTO:+0100
TZNAME:CET
DTSTART:20251026T010000
END:STANDARD
END:VTIMEZONE
BEGIN:VEVENT
DTSTART;TZID=Europe/Zurich:20241101T180000
DTEND;TZID=Europe/Zurich:20241101T210000
DTSTAMP:20260423T132036
CREATED:20241007T143022Z
LAST-MODIFIED:20241007T143022Z
UID:10000307-1730484000-1730494800@shop.lemaitredejeux.ch
SUMMARY:Flesh & Blood : Événement de célébration du 5ème anniversaire
DESCRIPTION:Pour fêter les 5 ans du jeu\, nous vous proposons un évènement spécial avec une Ira\, Scarlett Revenge Rainbow Foil à gagner pour chaque participant. Des boosters seront également à gagner. \nFormat : construit \nFrais de participation : 10.-
URL:https://shop.lemaitredejeux.ch/event/flesh-blood-evenement-de-celebration-du-5eme-anniversaire/
LOCATION:Le Maitre de Jeux\, Rue du Scex 49\, Sion\, Valais\, 1950\, Suisse
CATEGORIES:Flesh & Blood
ATTACH;FMTTYPE=image/webp:https://shop.lemaitredejeux.ch/wp-content/uploads/2024/10/24_IRA_5th_EVENTS_FB_POST3.width-992.format-webp.webp
END:VEVENT
BEGIN:VEVENT
DTSTART;TZID=Europe/Zurich:20241101T180000
DTEND;TZID=Europe/Zurich:20241101T210000
DTSTAMP:20260423T132036
CREATED:20241007T145051Z
LAST-MODIFIED:20241007T145814Z
UID:10000308-1730484000-1730494800@shop.lemaitredejeux.ch
SUMMARY:Star Wars Unlimited : Avant-première Crépuscule de la République
DESCRIPTION:Venez découvrir en avant-première la nouvelle édition « Crépuscule de la République » au travers d’un tournoi amical. \nChaque joueur recevra un kit de tournoi pour créer son deck. Boosters et goodies à gagner. \nInscriptions et informations : info@lemaitredejeux.ch
URL:https://shop.lemaitredejeux.ch/event/star-wars-unlimited-avant-premiere-crepuscule-de-la-republique/
LOCATION:Le Maitre de Jeux\, Rue du Scex 49\, Sion\, Valais\, 1950\, Suisse
CATEGORIES:Star Wars Unlimited
ATTACH;FMTTYPE=image/png:https://shop.lemaitredejeux.ch/wp-content/uploads/2024/10/large_SWH_03_Article_First_Look_Splash1_d570f8118f.png
END:VEVENT
BEGIN:VEVENT
DTSTART;TZID=Europe/Zurich:20241108T180000
DTEND;TZID=Europe/Zurich:20241108T210000
DTSTAMP:20260423T132036
CREATED:20241024T082602Z
LAST-MODIFIED:20241024T082602Z
UID:10000315-1731088800-1731099600@shop.lemaitredejeux.ch
SUMMARY:Magic : Avant-première Fondations
DESCRIPTION:Plongez dans Fondations et découvrez le summum de Magic : The Gathering avec des cartes choisies pour que chaque joueur y trouve son bonheur. Que vous soyez un ancien joueur\, un joueur actif\, ou un futur joueur de Magic\, Fondations vous invite à partager votre passion ! \nL’Avant-première est l’opportunité pour vos joueurs de mettre la main pour la première fois sur la nouvelle extension de Magic : The Gathering et de découvrir son contenu. \nLes Packs d’avant-première contiennent tout le nécessaire pour accompagner un joueur dans la construction d’un deck et dans ses premières parties en un contre un. Contenu: 6 boosters de jeu Fondations de Magic: The Gathering 1 carte rare ou rare mythique Premium traditionnelle avec un tampon de l’année 1 carte contenant un code Magic: The Gathering Arena 1 Compteur de points de vie Spindown \nFormat : scellé \nFrais de participation : 35.- (comprenant le pack d’AP) \nLots : boosters et cartes promo \nInfos et inscriptions : info@lemaitredejeux.ch
URL:https://shop.lemaitredejeux.ch/event/magic-avant-premiere-fondations/2024-11-08/
LOCATION:Le Maitre de Jeux\, Rue du Scex 49\, Sion\, Valais\, 1950\, Suisse
CATEGORIES:Magic the Gathering
ATTACH;FMTTYPE=image/jpeg:https://shop.lemaitredejeux.ch/wp-content/uploads/2024/10/download-2.jpg
END:VEVENT
BEGIN:VEVENT
DTSTART;TZID=Europe/Zurich:20241108T180000
DTEND;TZID=Europe/Zurich:20241108T210000
DTSTAMP:20260423T132036
CREATED:20241105T195634Z
LAST-MODIFIED:20241112T191859Z
UID:10000321-1731088800-1731099600@shop.lemaitredejeux.ch
SUMMARY:Flesh & Blood : Armory Event
DESCRIPTION:Le format est décidé par les joueurs quelques jours avant chaque évènement. \nVous pouvez nous contacter à info@lemaitredejeux.ch pour connaître le format choisi. Vous pouvez aussi nous contacter pour rejoindre notre groupe WhatsApp pour être en contact de la communauté.
URL:https://shop.lemaitredejeux.ch/event/flesh-blood-armory-event-5/2024-11-08/
LOCATION:Le Maitre de Jeux\, Rue du Scex 49\, Sion\, Valais\, 1950\, Suisse
CATEGORIES:Flesh & Blood
ATTACH;FMTTYPE=image/webp:https://shop.lemaitredejeux.ch/wp-content/uploads/2024/09/Flesh_and_Blood_Logo.webp
END:VEVENT
BEGIN:VEVENT
DTSTART;TZID=Europe/Zurich:20241109T100000
DTEND;TZID=Europe/Zurich:20241109T123000
DTSTAMP:20260423T132036
CREATED:20241024T074613Z
LAST-MODIFIED:20241024T074706Z
UID:10000313-1731146400-1731155400@shop.lemaitredejeux.ch
SUMMARY:Altered : tournoi en format construit
DESCRIPTION:Format : construit \nFrais de participation : 10.- \nChaque joueur recevra 1 booster minimum et les mieux classés davantage. \nInfos et inscriptions : info@lemaitredejeux.ch
URL:https://shop.lemaitredejeux.ch/event/altered-tournoi-en-format-construit-2/
LOCATION:Le Maitre de Jeux\, Rue du Scex 49\, Sion\, Valais\, 1950\, Suisse
CATEGORIES:Altered
ATTACH;FMTTYPE=image/jpeg:https://shop.lemaitredejeux.ch/wp-content/uploads/2024/09/altered_homepage_push_background-scaled-1.jpg
END:VEVENT
BEGIN:VEVENT
DTSTART;TZID=Europe/Zurich:20241109T100000
DTEND;TZID=Europe/Zurich:20241109T150000
DTSTAMP:20260423T132036
CREATED:20241024T082602Z
LAST-MODIFIED:20241024T082602Z
UID:10000316-1731146400-1731164400@shop.lemaitredejeux.ch
SUMMARY:Magic : Avant-première Fondations
DESCRIPTION:Plongez dans Fondations et découvrez le summum de Magic : The Gathering avec des cartes choisies pour que chaque joueur y trouve son bonheur. Que vous soyez un ancien joueur\, un joueur actif\, ou un futur joueur de Magic\, Fondations vous invite à partager votre passion ! \nL’Avant-première est l’opportunité pour vos joueurs de mettre la main pour la première fois sur la nouvelle extension de Magic : The Gathering et de découvrir son contenu. \nLes Packs d’avant-première contiennent tout le nécessaire pour accompagner un joueur dans la construction d’un deck et dans ses premières parties en un contre un. Contenu: 6 boosters de jeu Fondations de Magic: The Gathering 1 carte rare ou rare mythique Premium traditionnelle avec un tampon de l’année 1 carte contenant un code Magic: The Gathering Arena 1 Compteur de points de vie Spindown \nFormat : scellé \nFrais de participation : 35.- (comprenant le pack d’AP) \nLots : boosters et cartes promo \nInfos et inscriptions : info@lemaitredejeux.ch
URL:https://shop.lemaitredejeux.ch/event/magic-avant-premiere-fondations/2024-11-09/
LOCATION:Le Maitre de Jeux\, Rue du Scex 49\, Sion\, Valais\, 1950\, Suisse
CATEGORIES:Magic the Gathering
ATTACH;FMTTYPE=image/jpeg:https://shop.lemaitredejeux.ch/wp-content/uploads/2024/10/download-2.jpg
END:VEVENT
BEGIN:VEVENT
DTSTART;TZID=Europe/Zurich:20241109T160000
DTEND;TZID=Europe/Zurich:20241109T210000
DTSTAMP:20260423T132037
CREATED:20240803T142652Z
LAST-MODIFIED:20240803T142652Z
UID:10000230-1731168000-1731186000@shop.lemaitredejeux.ch
SUMMARY:Nuit des musées : animation jeux
DESCRIPTION:Nous aurons le plaisir de participer à la nuit des musées ! \nNous vous présenterons des jeux en lien avec les sons. \nVenez nous retrouver au musée d’histoire à Valère de 16h à 18h et de 19h à 21h.
URL:https://shop.lemaitredejeux.ch/event/nuit-des-musees-animation-jeux/
LOCATION:Valais
CATEGORIES:Events
ATTACH;FMTTYPE=image/jpeg:https://shop.lemaitredejeux.ch/wp-content/uploads/2024/08/download.jpg
END:VEVENT
BEGIN:VEVENT
DTSTART;TZID=Europe/Zurich:20241115T180000
DTEND;TZID=Europe/Zurich:20241115T210000
DTSTAMP:20260423T132037
CREATED:20241105T195634Z
LAST-MODIFIED:20241112T191859Z
UID:10000322-1731693600-1731704400@shop.lemaitredejeux.ch
SUMMARY:Flesh & Blood : Armory Event
DESCRIPTION:Le format est décidé par les joueurs quelques jours avant chaque évènement. \nVous pouvez nous contacter à info@lemaitredejeux.ch pour connaître le format choisi. Vous pouvez aussi nous contacter pour rejoindre notre groupe WhatsApp pour être en contact de la communauté.
URL:https://shop.lemaitredejeux.ch/event/flesh-blood-armory-event-5/2024-11-15/
LOCATION:Le Maitre de Jeux\, Rue du Scex 49\, Sion\, Valais\, 1950\, Suisse
CATEGORIES:Flesh & Blood
ATTACH;FMTTYPE=image/webp:https://shop.lemaitredejeux.ch/wp-content/uploads/2024/09/Flesh_and_Blood_Logo.webp
END:VEVENT
BEGIN:VEVENT
DTSTART;TZID=Europe/Zurich:20241115T180000
DTEND;TZID=Europe/Zurich:20241115T210000
DTSTAMP:20260423T132037
CREATED:20241112T191027Z
LAST-MODIFIED:20241112T191932Z
UID:10000380-1731693600-1731704400@shop.lemaitredejeux.ch
SUMMARY:Magic : tournoi draft (FNM)
DESCRIPTION:Chaque vendredi\, venez participer à un draft Magic. Le choix de l’édition se fait sur le moment. Il s’agit généralement de l’édition la plus récente. \nFrais de participation : le prix de 3 boosters \nLots : cartes promo
URL:https://shop.lemaitredejeux.ch/event/magic-tournoi-draft-fnm/2024-11-15/
LOCATION:Le Maitre de Jeux\, Rue du Scex 49\, Sion\, Valais\, 1950\, Suisse
CATEGORIES:Magic the Gathering
ATTACH;FMTTYPE=image/jpeg:https://shop.lemaitredejeux.ch/wp-content/uploads/2024/11/download.jpg
END:VEVENT
BEGIN:VEVENT
DTSTART;TZID=Europe/Zurich:20241116T093000
DTEND;TZID=Europe/Zurich:20241116T130000
DTSTAMP:20260423T132037
CREATED:20241025T133336Z
LAST-MODIFIED:20241025T133336Z
UID:10000320-1731749400-1731762000@shop.lemaitredejeux.ch
SUMMARY:Lorcana : avant-première "La mer Azurite"
DESCRIPTION:Venez découvrir en avant-première le chapitre 6 du jeu de cartes à succès Lorcana ! \nChaque joueur recevra 6 boosters pour faire son deck. \nFormat : scellé \nFrais de participation : 40.- \nLots : cartes promo et goodies
URL:https://shop.lemaitredejeux.ch/event/lorcana-avant-premiere-la-mer-azurite/
LOCATION:Le Maitre de Jeux\, Rue du Scex 49\, Sion\, Valais\, 1950\, Suisse
CATEGORIES:Lorcana
ATTACH;FMTTYPE=image/jpeg:https://shop.lemaitredejeux.ch/wp-content/uploads/2024/10/Disney-Lorcana-La-Mer-Azurite-1.jpg
END:VEVENT
BEGIN:VEVENT
DTSTART;TZID=Europe/Zurich:20241116T130000
DTEND;TZID=Europe/Zurich:20241116T200000
DTSTAMP:20260423T132037
CREATED:20240718T134237Z
LAST-MODIFIED:20240718T134237Z
UID:10001074-1731762000-1731787200@shop.lemaitredejeux.ch
SUMMARY:Jeux de figurines
DESCRIPTION:Venez participer ou simplement observer des parties de jeux de figurines (Age of Sigmar\, Warhammer 40K\, Warcry\, Killteam\, Necromunda ou Underworld) entre 13h30 et 20h. \nL’entrée est libre. L’adresse est : Maison des Jeunes\, Rue Centrale 26\, 1964 Conthey. \nPour toute question\, vous pouvez nous contacter à info@lemaitredejeux.ch
URL:https://shop.lemaitredejeux.ch/event/jeux-de-figurines-2/2024-11-16/
LOCATION:Maison des jeunes de Conthey\, Rue Centrale 26\, Conthey\, Valais\, 1964\, Suisse
CATEGORIES:Jeux de figurines
ATTACH;FMTTYPE=image/jpeg:https://shop.lemaitredejeux.ch/wp-content/uploads/2024/07/joy-toy-cn-jt2238-warhammer-40k-figurine-1-18-chaos-space-marine-03-.jpg
END:VEVENT
BEGIN:VEVENT
DTSTART;TZID=Europe/Zurich:20241116T130000
DTEND;TZID=Europe/Zurich:20241116T200000
DTSTAMP:20260423T132037
CREATED:20240718T134237Z
LAST-MODIFIED:20240718T134237Z
UID:10001075-1731762000-1731787200@shop.lemaitredejeux.ch
SUMMARY:Jeux de figurines
DESCRIPTION:Venez participer ou simplement observer des parties de jeux de figurines (Age of Sigmar\, Warhammer 40K\, Warcry\, Killteam\, Necromunda ou Underworld) entre 13h30 et 20h. \nL’entrée est libre. L’adresse est : Maison des Jeunes\, Rue Centrale 26\, 1964 Conthey. \nPour toute question\, vous pouvez nous contacter à info@lemaitredejeux.ch
URL:https://shop.lemaitredejeux.ch/event/jeux-de-figurines-2/2024-11-16/
LOCATION:Maison des jeunes de Conthey\, Rue Centrale 26\, Conthey\, Valais\, 1964\, Suisse
CATEGORIES:Jeux de figurines
ATTACH;FMTTYPE=image/jpeg:https://shop.lemaitredejeux.ch/wp-content/uploads/2024/07/joy-toy-cn-jt2238-warhammer-40k-figurine-1-18-chaos-space-marine-03-.jpg
END:VEVENT
BEGIN:VEVENT
DTSTART;TZID=Europe/Zurich:20241116T130000
DTEND;TZID=Europe/Zurich:20241116T200000
DTSTAMP:20260423T132037
CREATED:20240718T134237Z
LAST-MODIFIED:20240718T134237Z
UID:10000092-1731762000-1731787200@shop.lemaitredejeux.ch
SUMMARY:Jeux de figurines
DESCRIPTION:Venez participer ou simplement observer des parties de jeux de figurines (Age of Sigmar\, Warhammer 40K\, Warcry\, Killteam\, Necromunda ou Underworld) entre 13h30 et 20h. \nL’entrée est libre. L’adresse est : Maison des Jeunes\, Rue Centrale 26\, 1964 Conthey. \nPour toute question\, vous pouvez nous contacter à info@lemaitredejeux.ch
URL:https://shop.lemaitredejeux.ch/event/jeux-de-figurines-2/2024-11-16/
LOCATION:Maison des jeunes de Conthey\, Rue Centrale 26\, Conthey\, Valais\, 1964\, Suisse
CATEGORIES:Jeux de figurines
ATTACH;FMTTYPE=image/jpeg:https://shop.lemaitredejeux.ch/wp-content/uploads/2024/07/joy-toy-cn-jt2238-warhammer-40k-figurine-1-18-chaos-space-marine-03-.jpg
END:VEVENT
BEGIN:VEVENT
DTSTART;TZID=Europe/Zurich:20241116T130000
DTEND;TZID=Europe/Zurich:20241116T200000
DTSTAMP:20260423T132037
CREATED:20240718T134237Z
LAST-MODIFIED:20240718T134237Z
UID:10001069-1731762000-1731787200@shop.lemaitredejeux.ch
SUMMARY:Jeux de figurines
DESCRIPTION:Venez participer ou simplement observer des parties de jeux de figurines (Age of Sigmar\, Warhammer 40K\, Warcry\, Killteam\, Necromunda ou Underworld) entre 13h30 et 20h. \nL’entrée est libre. L’adresse est : Maison des Jeunes\, Rue Centrale 26\, 1964 Conthey. \nPour toute question\, vous pouvez nous contacter à info@lemaitredejeux.ch
URL:https://shop.lemaitredejeux.ch/event/jeux-de-figurines-2/2024-11-16/
LOCATION:Maison des jeunes de Conthey\, Rue Centrale 26\, Conthey\, Valais\, 1964\, Suisse
CATEGORIES:Jeux de figurines
ATTACH;FMTTYPE=image/jpeg:https://shop.lemaitredejeux.ch/wp-content/uploads/2024/07/joy-toy-cn-jt2238-warhammer-40k-figurine-1-18-chaos-space-marine-03-.jpg
END:VEVENT
BEGIN:VEVENT
DTSTART;TZID=Europe/Zurich:20241116T130000
DTEND;TZID=Europe/Zurich:20241116T200000
DTSTAMP:20260423T132037
CREATED:20240718T134237Z
LAST-MODIFIED:20240718T134237Z
UID:10001072-1731762000-1731787200@shop.lemaitredejeux.ch
SUMMARY:Jeux de figurines
DESCRIPTION:Venez participer ou simplement observer des parties de jeux de figurines (Age of Sigmar\, Warhammer 40K\, Warcry\, Killteam\, Necromunda ou Underworld) entre 13h30 et 20h. \nL’entrée est libre. L’adresse est : Maison des Jeunes\, Rue Centrale 26\, 1964 Conthey. \nPour toute question\, vous pouvez nous contacter à info@lemaitredejeux.ch
URL:https://shop.lemaitredejeux.ch/event/jeux-de-figurines-2/2024-11-16/
LOCATION:Maison des jeunes de Conthey\, Rue Centrale 26\, Conthey\, Valais\, 1964\, Suisse
CATEGORIES:Jeux de figurines
ATTACH;FMTTYPE=image/jpeg:https://shop.lemaitredejeux.ch/wp-content/uploads/2024/07/joy-toy-cn-jt2238-warhammer-40k-figurine-1-18-chaos-space-marine-03-.jpg
END:VEVENT
BEGIN:VEVENT
DTSTART;TZID=Europe/Zurich:20241116T133000
DTEND;TZID=Europe/Zurich:20241116T170000
DTSTAMP:20260423T132037
CREATED:20240612T080955Z
LAST-MODIFIED:20241110T202607Z
UID:10000070-1731763800-1731776400@shop.lemaitredejeux.ch
SUMMARY:Magic : Tournoi Pauper
DESCRIPTION:Le pauper est un format dans lequel seules les cartes communes sont autorisées. L’ambiance est détendue et le plaisir du jeu prime sur l’aspect compétitif. Les joueurs débutant comme expérimentés\, enfants comme adultes\, sont les bienvenus ! Il y a également la possibilité de se faire prêter un deck. \nFrais de participation : 6.- \nLots : bons cadeaux pour notre boutique \nInformations et inscriptions : Julien au 079 568 63 25 ou info@lemaitredejeux.ch
URL:https://shop.lemaitredejeux.ch/event/magic-tournoi-pauper-6/
LOCATION:Le Maitre de Jeux\, Rue du Scex 49\, Sion\, Valais\, 1950\, Suisse
CATEGORIES:Magic the Gathering
ATTACH;FMTTYPE=image/png:https://shop.lemaitredejeux.ch/wp-content/uploads/2024/06/mtg-transparent.png
END:VEVENT
BEGIN:VEVENT
DTSTART;TZID=Europe/Zurich:20241122T180000
DTEND;TZID=Europe/Zurich:20241122T200000
DTSTAMP:20260423T132037
CREATED:20241116T135611Z
LAST-MODIFIED:20241116T135938Z
UID:10000443-1732298400-1732305600@shop.lemaitredejeux.ch
SUMMARY:Altered : tournoi en format construit
DESCRIPTION:Frais de participation 10.- \nChaque joueur recevra au moins un booster en lot \nInfos et inscriptions : info@lemaitredejeux.ch
URL:https://shop.lemaitredejeux.ch/event/tournoi-altered-format-construit/2024-11-22/
LOCATION:Le Maitre de Jeux\, Rue du Scex 49\, Sion\, Valais\, 1950\, Suisse
CATEGORIES:Altered
ATTACH;FMTTYPE=image/jpeg:https://shop.lemaitredejeux.ch/wp-content/uploads/2024/09/altered_homepage_push_background-scaled-1.jpg
END:VEVENT
BEGIN:VEVENT
DTSTART;TZID=Europe/Zurich:20241122T180000
DTEND;TZID=Europe/Zurich:20241122T210000
DTSTAMP:20260423T132037
CREATED:20241105T195634Z
LAST-MODIFIED:20241112T191859Z
UID:10000323-1732298400-1732309200@shop.lemaitredejeux.ch
SUMMARY:Flesh & Blood : Armory Event
DESCRIPTION:Le format est décidé par les joueurs quelques jours avant chaque évènement. \nVous pouvez nous contacter à info@lemaitredejeux.ch pour connaître le format choisi. Vous pouvez aussi nous contacter pour rejoindre notre groupe WhatsApp pour être en contact de la communauté.
URL:https://shop.lemaitredejeux.ch/event/flesh-blood-armory-event-5/2024-11-22/
LOCATION:Le Maitre de Jeux\, Rue du Scex 49\, Sion\, Valais\, 1950\, Suisse
CATEGORIES:Flesh & Blood
ATTACH;FMTTYPE=image/webp:https://shop.lemaitredejeux.ch/wp-content/uploads/2024/09/Flesh_and_Blood_Logo.webp
END:VEVENT
BEGIN:VEVENT
DTSTART;TZID=Europe/Zurich:20241122T180000
DTEND;TZID=Europe/Zurich:20241122T210000
DTSTAMP:20260423T132037
CREATED:20241112T191027Z
LAST-MODIFIED:20241112T191932Z
UID:10000381-1732298400-1732309200@shop.lemaitredejeux.ch
SUMMARY:Magic : tournoi draft (FNM)
DESCRIPTION:Chaque vendredi\, venez participer à un draft Magic. Le choix de l’édition se fait sur le moment. Il s’agit généralement de l’édition la plus récente. \nFrais de participation : le prix de 3 boosters \nLots : cartes promo
URL:https://shop.lemaitredejeux.ch/event/magic-tournoi-draft-fnm/2024-11-22/
LOCATION:Le Maitre de Jeux\, Rue du Scex 49\, Sion\, Valais\, 1950\, Suisse
CATEGORIES:Magic the Gathering
ATTACH;FMTTYPE=image/jpeg:https://shop.lemaitredejeux.ch/wp-content/uploads/2024/11/download.jpg
END:VEVENT
BEGIN:VEVENT
DTSTART;TZID=Europe/Zurich:20241123T093000
DTEND;TZID=Europe/Zurich:20241123T130000
DTSTAMP:20260423T132037
CREATED:20241113T130904Z
LAST-MODIFIED:20241113T130904Z
UID:10000439-1732354200-1732366800@shop.lemaitredejeux.ch
SUMMARY:Lorcana : tournoi en format construit
DESCRIPTION:Format : construit (chacun vient avec son propre deck) \nFrais de participation : 12.- \nLots : cartes promo et 1 booster minimum par participant
URL:https://shop.lemaitredejeux.ch/event/lorcana-tournoi-en-format-construit-2/2024-11-23/
LOCATION:Le Maitre de Jeux\, Rue du Scex 49\, Sion\, Valais\, 1950\, Suisse
CATEGORIES:Lorcana
ATTACH;FMTTYPE=image/avif:https://shop.lemaitredejeux.ch/wp-content/uploads/2024/06/disney-lorcana-how-to-play.avif
END:VEVENT
BEGIN:VEVENT
DTSTART;TZID=Europe/Zurich:20241123T180000
DTEND;TZID=Europe/Zurich:20241123T220000
DTSTAMP:20260423T132037
CREATED:20241112T185411Z
LAST-MODIFIED:20241112T185652Z
UID:10000378-1732384800-1732399200@shop.lemaitredejeux.ch
SUMMARY:Soirée jeux chez Trapgame
DESCRIPTION:  \n  \nEn collaboration avec Trapgame\, nous vous proposons une soirée placée sous le signe des jeux dans leurs locaux de Charrat ! \n\n  \n\n\n\n\n\n  \n\nCe qui vous attend :\n\n• Des concours et des tournois palpitants avec des récompenses et des lots pour les vainqueurs\, en solo et/ou en équipe.\n• Des jeux à découvrir tout au long de la soirée (il y aura notamment Tower Up\, Duck & Cover\, Once upon a draft\, Luz et Bomb Busters…)\n• Des animations captivantes\, incluant :\n   ◦ Un Loup-garou géant animé tout au long de la soirée ;\n   ◦ Un tournoi de « Château Combo » ;\n   ◦ Une partie en équipe de Burger Quiz.\n\nAttention ! Pour participer aux concours et tournois\, il est essentiel d’arriver dès 18h00\, car les premières activités commenceront au début de la soirée.\n\nLes places étant limitées\, il est vivement recommandé de s’inscrire sur le lien suivant :\nhttps://www.trapgame.ch/fr/Soiree-Jeux/
URL:https://shop.lemaitredejeux.ch/event/soiree-jeux-chez-trapgame/
LOCATION:Trapgame\, Charrat\, Route de la Sarvaz 5\, Charrat\, 1906\, Switzerland
CATEGORIES:Events
ATTACH;FMTTYPE=image/jpeg:https://shop.lemaitredejeux.ch/wp-content/uploads/2024/11/trapgame-win-or-stay.jpg
END:VEVENT
BEGIN:VEVENT
DTSTART;TZID=Europe/Zurich:20241129T180000
DTEND;TZID=Europe/Zurich:20241129T210000
DTSTAMP:20260423T132037
CREATED:20241105T195634Z
LAST-MODIFIED:20241112T191859Z
UID:10000324-1732903200-1732914000@shop.lemaitredejeux.ch
SUMMARY:Flesh & Blood : Armory Event
DESCRIPTION:Le format est décidé par les joueurs quelques jours avant chaque évènement. \nVous pouvez nous contacter à info@lemaitredejeux.ch pour connaître le format choisi. Vous pouvez aussi nous contacter pour rejoindre notre groupe WhatsApp pour être en contact de la communauté.
URL:https://shop.lemaitredejeux.ch/event/flesh-blood-armory-event-5/2024-11-29/
LOCATION:Le Maitre de Jeux\, Rue du Scex 49\, Sion\, Valais\, 1950\, Suisse
CATEGORIES:Flesh & Blood
ATTACH;FMTTYPE=image/webp:https://shop.lemaitredejeux.ch/wp-content/uploads/2024/09/Flesh_and_Blood_Logo.webp
END:VEVENT
BEGIN:VEVENT
DTSTART;TZID=Europe/Zurich:20241129T180000
DTEND;TZID=Europe/Zurich:20241129T210000
DTSTAMP:20260423T132037
CREATED:20241112T191027Z
LAST-MODIFIED:20241112T191932Z
UID:10000382-1732903200-1732914000@shop.lemaitredejeux.ch
SUMMARY:Magic : tournoi draft (FNM)
DESCRIPTION:Chaque vendredi\, venez participer à un draft Magic. Le choix de l’édition se fait sur le moment. Il s’agit généralement de l’édition la plus récente. \nFrais de participation : le prix de 3 boosters \nLots : cartes promo
URL:https://shop.lemaitredejeux.ch/event/magic-tournoi-draft-fnm/2024-11-29/
LOCATION:Le Maitre de Jeux\, Rue du Scex 49\, Sion\, Valais\, 1950\, Suisse
CATEGORIES:Magic the Gathering
ATTACH;FMTTYPE=image/jpeg:https://shop.lemaitredejeux.ch/wp-content/uploads/2024/11/download.jpg
END:VEVENT
BEGIN:VEVENT
DTSTART;TZID=Europe/Zurich:20241130T100000
DTEND;TZID=Europe/Zurich:20241130T170000
DTSTAMP:20260423T132037
CREATED:20241024T125308Z
LAST-MODIFIED:20241024T125308Z
UID:10000319-1732960800-1732986000@shop.lemaitredejeux.ch
SUMMARY:Age of Sigmar : tournoi
DESCRIPTION:Infos à venir
URL:https://shop.lemaitredejeux.ch/event/age-of-sigmar-tournoi/
LOCATION:Le Maitre de Jeux\, Rue du Scex 49\, Sion\, Valais\, 1950\, Suisse
CATEGORIES:Events
ATTACH;FMTTYPE=image/jpeg:https://shop.lemaitredejeux.ch/wp-content/uploads/2024/10/ageofsigmarlg.jpg
END:VEVENT
BEGIN:VEVENT
DTSTART;TZID=Europe/Zurich:20241130T150000
DTEND;TZID=Europe/Zurich:20241130T180000
DTSTAMP:20260423T132037
CREATED:20241113T130904Z
LAST-MODIFIED:20241113T130904Z
UID:10000440-1732978800-1732989600@shop.lemaitredejeux.ch
SUMMARY:Lorcana : tournoi en format construit
DESCRIPTION:Format : construit (chacun vient avec son propre deck) \nFrais de participation : 12.- \nLots : cartes promo et 1 booster minimum par participant
URL:https://shop.lemaitredejeux.ch/event/lorcana-tournoi-en-format-construit-2/2024-11-30/
LOCATION:Le Maitre de Jeux\, Rue du Scex 49\, Sion\, Valais\, 1950\, Suisse
CATEGORIES:Lorcana
ATTACH;FMTTYPE=image/avif:https://shop.lemaitredejeux.ch/wp-content/uploads/2024/06/disney-lorcana-how-to-play.avif
END:VEVENT
END:VCALENDAR