BEGIN:VCALENDAR
VERSION:2.0
PRODID:-//Le Maître de Jeux - ECPv6.15.18//NONSGML v1.0//EN
CALSCALE:GREGORIAN
METHOD:PUBLISH
X-WR-CALNAME:Le Maître de Jeux
X-ORIGINAL-URL:https://shop.lemaitredejeux.ch
X-WR-CALDESC:Évènements pour Le Maître de Jeux
REFRESH-INTERVAL;VALUE=DURATION:PT1H
X-Robots-Tag:noindex
X-PUBLISHED-TTL:PT1H
BEGIN:VTIMEZONE
TZID:Europe/Zurich
BEGIN:DAYLIGHT
TZOFFSETFROM:+0100
TZOFFSETTO:+0200
TZNAME:CEST
DTSTART:20240331T010000
END:DAYLIGHT
BEGIN:STANDARD
TZOFFSETFROM:+0200
TZOFFSETTO:+0100
TZNAME:CET
DTSTART:20241027T010000
END:STANDARD
BEGIN:DAYLIGHT
TZOFFSETFROM:+0100
TZOFFSETTO:+0200
TZNAME:CEST
DTSTART:20250330T010000
END:DAYLIGHT
BEGIN:STANDARD
TZOFFSETFROM:+0200
TZOFFSETTO:+0100
TZNAME:CET
DTSTART:20251026T010000
END:STANDARD
BEGIN:DAYLIGHT
TZOFFSETFROM:+0100
TZOFFSETTO:+0200
TZNAME:CEST
DTSTART:20260329T010000
END:DAYLIGHT
BEGIN:STANDARD
TZOFFSETFROM:+0200
TZOFFSETTO:+0100
TZNAME:CET
DTSTART:20261025T010000
END:STANDARD
END:VTIMEZONE
BEGIN:VEVENT
DTSTART;TZID=Europe/Zurich:20250502T180000
DTEND;TZID=Europe/Zurich:20250502T210000
DTSTAMP:20260421T003740
CREATED:20250320T195616Z
LAST-MODIFIED:20250321T083151Z
UID:10000560-1746208800-1746219600@shop.lemaitredejeux.ch
SUMMARY:Magic : Tournoi en format draft
DESCRIPTION:Chaque joueur reçoit 3 boosters pour faire le draft. \nL’édition est déterminée sur le moment par les joueurs. \nFrais de participation : le prix des 3 boosters. \nLots : cartes promo \nLe tournoi a lieu dès 6 joueurs \nInformations et inscriptions : info@lemaitredejeux.ch
URL:https://shop.lemaitredejeux.ch/event/magic-tournoi-en-format-draft-3/2025-05-02/
LOCATION:Le Maitre de Jeux\, Rue du Scex 49\, Sion\, Valais\, 1950\, Suisse
CATEGORIES:Magic the Gathering
ATTACH;FMTTYPE=image/png:https://shop.lemaitredejeux.ch/wp-content/uploads/2025/03/Magic-The-Gathering-Logo.png
END:VEVENT
BEGIN:VEVENT
DTSTART;TZID=Europe/Zurich:20250502T180000
DTEND;TZID=Europe/Zurich:20250502T210000
DTSTAMP:20260421T003740
CREATED:20250320T200206Z
LAST-MODIFIED:20250324T122822Z
UID:10000623-1746208800-1746219600@shop.lemaitredejeux.ch
SUMMARY:Flesh & Blood : Armory Event
DESCRIPTION:Chaque vendredi\, nous vous proposons un Armory Event dans une ambiance sympathique et détendue. \nLe format est décidé par les joueurs quelques jours avant chaque évènement. \nPour toute question ou pour rejoindre notre groupe Whatsapp\, vous pouvez nous écrire à info@lemaitredejeux.ch \n 
URL:https://shop.lemaitredejeux.ch/event/flesh-blood-armory-event-7/2025-05-02/
LOCATION:Le Maitre de Jeux\, Rue du Scex 49\, Sion\, Valais\, 1950\, Suisse
CATEGORIES:Flesh & Blood
ATTACH;FMTTYPE=image/webp:https://shop.lemaitredejeux.ch/wp-content/uploads/2024/09/Flesh_and_Blood_Logo.webp
END:VEVENT
BEGIN:VEVENT
DTSTART;TZID=Europe/Zurich:20250503T093000
DTEND;TZID=Europe/Zurich:20250503T170000
DTSTAMP:20260421T003740
CREATED:20250329T143838Z
LAST-MODIFIED:20250329T143838Z
UID:10000690-1746264600-1746291600@shop.lemaitredejeux.ch
SUMMARY:Event : Déstockage
DESCRIPTION:Comme chaque année\, nous vous invitons à participer à notre grand déstockage ! Ce sera l’occasion de faire de bonnes affaires. De nombreux jeux neufs et d’occasion seront proposés à petits prix.
URL:https://shop.lemaitredejeux.ch/event/event-destockage/
LOCATION:Le Maitre de Jeux\, Rue du Scex 49\, Sion\, Valais\, 1950\, Suisse
CATEGORIES:Events
ATTACH;FMTTYPE=image/png:https://shop.lemaitredejeux.ch/wp-content/uploads/2025/03/images.png
END:VEVENT
BEGIN:VEVENT
DTSTART;TZID=Europe/Zurich:20250509T180000
DTEND;TZID=Europe/Zurich:20250509T210000
DTSTAMP:20260421T003740
CREATED:20250320T195616Z
LAST-MODIFIED:20250321T083151Z
UID:10000561-1746813600-1746824400@shop.lemaitredejeux.ch
SUMMARY:Magic : Tournoi en format draft
DESCRIPTION:Chaque joueur reçoit 3 boosters pour faire le draft. \nL’édition est déterminée sur le moment par les joueurs. \nFrais de participation : le prix des 3 boosters. \nLots : cartes promo \nLe tournoi a lieu dès 6 joueurs \nInformations et inscriptions : info@lemaitredejeux.ch
URL:https://shop.lemaitredejeux.ch/event/magic-tournoi-en-format-draft-3/2025-05-09/
LOCATION:Le Maitre de Jeux\, Rue du Scex 49\, Sion\, Valais\, 1950\, Suisse
CATEGORIES:Magic the Gathering
ATTACH;FMTTYPE=image/png:https://shop.lemaitredejeux.ch/wp-content/uploads/2025/03/Magic-The-Gathering-Logo.png
END:VEVENT
BEGIN:VEVENT
DTSTART;TZID=Europe/Zurich:20250509T180000
DTEND;TZID=Europe/Zurich:20250509T210000
DTSTAMP:20260421T003740
CREATED:20250320T200206Z
LAST-MODIFIED:20250324T122822Z
UID:10000624-1746813600-1746824400@shop.lemaitredejeux.ch
SUMMARY:Flesh & Blood : Armory Event
DESCRIPTION:Chaque vendredi\, nous vous proposons un Armory Event dans une ambiance sympathique et détendue. \nLe format est décidé par les joueurs quelques jours avant chaque évènement. \nPour toute question ou pour rejoindre notre groupe Whatsapp\, vous pouvez nous écrire à info@lemaitredejeux.ch \n 
URL:https://shop.lemaitredejeux.ch/event/flesh-blood-armory-event-7/2025-05-09/
LOCATION:Le Maitre de Jeux\, Rue du Scex 49\, Sion\, Valais\, 1950\, Suisse
CATEGORIES:Flesh & Blood
ATTACH;FMTTYPE=image/webp:https://shop.lemaitredejeux.ch/wp-content/uploads/2024/09/Flesh_and_Blood_Logo.webp
END:VEVENT
BEGIN:VEVENT
DTSTART;TZID=Europe/Zurich:20250510T093000
DTEND;TZID=Europe/Zurich:20250510T133000
DTSTAMP:20260421T003740
CREATED:20250324T123709Z
LAST-MODIFIED:20250328T103815Z
UID:10000686-1746869400-1746883800@shop.lemaitredejeux.ch
SUMMARY:Lorcana : Tournoi en format construit
DESCRIPTION:  \n  \n  \n  \n  \n  \nChaque joueur vient avec son propre deck. \nEntre 3 et 5 rondes en BO3 de 50 minutes selon le nombre de participants. \nFrais de participation 12.- \nCares promo et boosters à gagner. \nInscriptions sur Melee : \n\nSamedi 12 avril à 9h30 : 275542\nSamedi 26 avril à 9h30 : 275548\nSamedi 10 mai à 9h30 : 275551\nSamedi 24 mai à 9h30 : 275553\n\nInformations : info@lemaitredejeux.ch
URL:https://shop.lemaitredejeux.ch/event/lorcana-tournoi-en-format-construit-4/2025-05-10/
LOCATION:Le Maitre de Jeux\, Rue du Scex 49\, Sion\, Valais\, 1950\, Suisse
CATEGORIES:Lorcana
ATTACH;FMTTYPE=image/jpeg:https://shop.lemaitredejeux.ch/wp-content/uploads/2025/03/cmsevolution_trosuwxo.jpg
END:VEVENT
BEGIN:VEVENT
DTSTART;TZID=Europe/Zurich:20250516T180000
DTEND;TZID=Europe/Zurich:20250516T210000
DTSTAMP:20260421T003740
CREATED:20250320T195616Z
LAST-MODIFIED:20250321T083151Z
UID:10000562-1747418400-1747429200@shop.lemaitredejeux.ch
SUMMARY:Magic : Tournoi en format draft
DESCRIPTION:Chaque joueur reçoit 3 boosters pour faire le draft. \nL’édition est déterminée sur le moment par les joueurs. \nFrais de participation : le prix des 3 boosters. \nLots : cartes promo \nLe tournoi a lieu dès 6 joueurs \nInformations et inscriptions : info@lemaitredejeux.ch
URL:https://shop.lemaitredejeux.ch/event/magic-tournoi-en-format-draft-3/2025-05-16/
LOCATION:Le Maitre de Jeux\, Rue du Scex 49\, Sion\, Valais\, 1950\, Suisse
CATEGORIES:Magic the Gathering
ATTACH;FMTTYPE=image/png:https://shop.lemaitredejeux.ch/wp-content/uploads/2025/03/Magic-The-Gathering-Logo.png
END:VEVENT
BEGIN:VEVENT
DTSTART;TZID=Europe/Zurich:20250516T180000
DTEND;TZID=Europe/Zurich:20250516T210000
DTSTAMP:20260421T003740
CREATED:20250320T200206Z
LAST-MODIFIED:20250324T122822Z
UID:10000625-1747418400-1747429200@shop.lemaitredejeux.ch
SUMMARY:Flesh & Blood : Armory Event
DESCRIPTION:Chaque vendredi\, nous vous proposons un Armory Event dans une ambiance sympathique et détendue. \nLe format est décidé par les joueurs quelques jours avant chaque évènement. \nPour toute question ou pour rejoindre notre groupe Whatsapp\, vous pouvez nous écrire à info@lemaitredejeux.ch \n 
URL:https://shop.lemaitredejeux.ch/event/flesh-blood-armory-event-7/2025-05-16/
LOCATION:Le Maitre de Jeux\, Rue du Scex 49\, Sion\, Valais\, 1950\, Suisse
CATEGORIES:Flesh & Blood
ATTACH;FMTTYPE=image/webp:https://shop.lemaitredejeux.ch/wp-content/uploads/2024/09/Flesh_and_Blood_Logo.webp
END:VEVENT
BEGIN:VEVENT
DTSTART;TZID=Europe/Zurich:20250517T130000
DTEND;TZID=Europe/Zurich:20250517T170000
DTSTAMP:20260421T003740
CREATED:20241213T131528Z
LAST-MODIFIED:20250601T185405Z
UID:10000453-1747486800-1747501200@shop.lemaitredejeux.ch
SUMMARY:Magic : Tournoi pauper
DESCRIPTION:Le format pauper propose aux joueurs de s’affronter uniquement avec des cartes communes. Chaque joueur vient avec son propre deck. Possibilité de vous en faire prêter. \nInfos et inscriptions : info@lemaitredejeux.ch
URL:https://shop.lemaitredejeux.ch/event/magic-tournoi-pauper-2/2025-05-17/
LOCATION:Le Maitre de Jeux\, Rue du Scex 49\, Sion\, Valais\, 1950\, Suisse
CATEGORIES:Magic the Gathering
ATTACH;FMTTYPE=image/jpeg:https://shop.lemaitredejeux.ch/wp-content/uploads/2024/12/9kwn2qcyt4_768_icon.jpg
END:VEVENT
BEGIN:VEVENT
DTSTART;TZID=Europe/Zurich:20250518T100000
DTEND;TZID=Europe/Zurich:20250518T180000
DTSTAMP:20260421T003740
CREATED:20250320T193420Z
LAST-MODIFIED:20250508T205605Z
UID:10000493-1747562400-1747591200@shop.lemaitredejeux.ch
SUMMARY:Flesh & Blood : Pro Quest Singapore
DESCRIPTION:Registration : https://gem.fabtcg.com/gem/join/?query=stylish-muskrat \nFormat : Classic constructed \nDecklist required \nOfficial dotation and boosters according to ranking \nParticipation fees : 30.- \nFor any questions : info@lemaitredejeux.ch
URL:https://shop.lemaitredejeux.ch/event/pro-quest-singapore/
LOCATION:Le Maitre de Jeux\, Rue du Scex 49\, Sion\, Valais\, 1950\, Suisse
CATEGORIES:Flesh & Blood
ATTACH;FMTTYPE=image/jpeg:https://shop.lemaitredejeux.ch/wp-content/uploads/2025/03/pq_singapore_marketing7_KScNyvv.jpg
END:VEVENT
BEGIN:VEVENT
DTSTART;TZID=Europe/Zurich:20250523T180000
DTEND;TZID=Europe/Zurich:20250523T210000
DTSTAMP:20260421T003740
CREATED:20250320T195616Z
LAST-MODIFIED:20250321T083151Z
UID:10000563-1748023200-1748034000@shop.lemaitredejeux.ch
SUMMARY:Magic : Tournoi en format draft
DESCRIPTION:Chaque joueur reçoit 3 boosters pour faire le draft. \nL’édition est déterminée sur le moment par les joueurs. \nFrais de participation : le prix des 3 boosters. \nLots : cartes promo \nLe tournoi a lieu dès 6 joueurs \nInformations et inscriptions : info@lemaitredejeux.ch
URL:https://shop.lemaitredejeux.ch/event/magic-tournoi-en-format-draft-3/2025-05-23/
LOCATION:Le Maitre de Jeux\, Rue du Scex 49\, Sion\, Valais\, 1950\, Suisse
CATEGORIES:Magic the Gathering
ATTACH;FMTTYPE=image/png:https://shop.lemaitredejeux.ch/wp-content/uploads/2025/03/Magic-The-Gathering-Logo.png
END:VEVENT
BEGIN:VEVENT
DTSTART;TZID=Europe/Zurich:20250523T180000
DTEND;TZID=Europe/Zurich:20250523T210000
DTSTAMP:20260421T003740
CREATED:20250320T200206Z
LAST-MODIFIED:20250324T122822Z
UID:10000626-1748023200-1748034000@shop.lemaitredejeux.ch
SUMMARY:Flesh & Blood : Armory Event
DESCRIPTION:Chaque vendredi\, nous vous proposons un Armory Event dans une ambiance sympathique et détendue. \nLe format est décidé par les joueurs quelques jours avant chaque évènement. \nPour toute question ou pour rejoindre notre groupe Whatsapp\, vous pouvez nous écrire à info@lemaitredejeux.ch \n 
URL:https://shop.lemaitredejeux.ch/event/flesh-blood-armory-event-7/2025-05-23/
LOCATION:Le Maitre de Jeux\, Rue du Scex 49\, Sion\, Valais\, 1950\, Suisse
CATEGORIES:Flesh & Blood
ATTACH;FMTTYPE=image/webp:https://shop.lemaitredejeux.ch/wp-content/uploads/2024/09/Flesh_and_Blood_Logo.webp
END:VEVENT
BEGIN:VEVENT
DTSTART;TZID=Europe/Zurich:20250524T093000
DTEND;TZID=Europe/Zurich:20250524T173000
DTSTAMP:20260421T003740
CREATED:20250328T104243Z
LAST-MODIFIED:20250328T154850Z
UID:10000689-1748079000-1748107800@shop.lemaitredejeux.ch
SUMMARY:Lorcana : Championnat L'Ile d'Archazia
DESCRIPTION:  \n  \n  \n  \n  \n  \nFormat : construit \nRondes : 4 à 5 selon le nombre de participants\, suivies d’un top 4 ou top 8. Les rondes se disputeront en BO2 et le top en BO3. \nDecklist obligatoire (à prendre avec ou à envoyer à info@lemaitredejeux.ch \nLots : \nPremier :\n– 1 tapis de jeu Hiro Hamada- Champion – Concepteur d’armures\n– 1 carte promo foil Hiro Hamada – Concepteur d’armures \nDe la deuxième à la huitième place :\n– 1 carte promo foil Hiro Hamada – Concepteur d’armures \nTous les participants :\n– 1 carte promo non-foil Hiro Hamada – Concepteur d’armures \nChaque participant recevra également au moins 1 booster et davantage selon le classement. \nFrais de participation : 20.- \nInscription Melee : 275553 (c’est le même code que pour le tournoi construit prévu à la base). \nAttention ! Pour votre confort et celui des autres clients\, le tournoi sera limité à 24 participants car il aura lieu un samedi.
URL:https://shop.lemaitredejeux.ch/event/lorcana-championnat-lile-darchazia/
LOCATION:Le Maitre de Jeux\, Rue du Scex 49\, Sion\, Valais\, 1950\, Suisse
CATEGORIES:Lorcana
ATTACH;FMTTYPE=image/png:https://shop.lemaitredejeux.ch/wp-content/uploads/2025/03/Capture-removebg-preview-1.png
END:VEVENT
BEGIN:VEVENT
DTSTART;TZID=Europe/Zurich:20250530T180000
DTEND;TZID=Europe/Zurich:20250530T210000
DTSTAMP:20260421T003740
CREATED:20250320T195616Z
LAST-MODIFIED:20250321T083151Z
UID:10000564-1748628000-1748638800@shop.lemaitredejeux.ch
SUMMARY:Magic : Tournoi en format draft
DESCRIPTION:Chaque joueur reçoit 3 boosters pour faire le draft. \nL’édition est déterminée sur le moment par les joueurs. \nFrais de participation : le prix des 3 boosters. \nLots : cartes promo \nLe tournoi a lieu dès 6 joueurs \nInformations et inscriptions : info@lemaitredejeux.ch
URL:https://shop.lemaitredejeux.ch/event/magic-tournoi-en-format-draft-3/2025-05-30/
LOCATION:Le Maitre de Jeux\, Rue du Scex 49\, Sion\, Valais\, 1950\, Suisse
CATEGORIES:Magic the Gathering
ATTACH;FMTTYPE=image/png:https://shop.lemaitredejeux.ch/wp-content/uploads/2025/03/Magic-The-Gathering-Logo.png
END:VEVENT
BEGIN:VEVENT
DTSTART;TZID=Europe/Zurich:20250530T180000
DTEND;TZID=Europe/Zurich:20250530T210000
DTSTAMP:20260421T003740
CREATED:20250321T080843Z
LAST-MODIFIED:20250321T081147Z
UID:10000681-1748628000-1748638800@shop.lemaitredejeux.ch
SUMMARY:Flesh & Blood : Avant-première High Seas
DESCRIPTION:  \n  \n  \n  \n  \nFrais de participation 40.- \nFormat : sealed deck (chaque joueur recevra 8 boosters pour faire son deck). \nLots : cartes promo \nLien pour s’inscrire : https://gem.fabtcg.com/gem/join/?query=neon-donkey \nInformations à info@lemaitredejeux.ch
URL:https://shop.lemaitredejeux.ch/event/flesh-blood-avant-premiere-high-seas/
LOCATION:Le Maitre de Jeux\, Rue du Scex 49\, Sion\, Valais\, 1950\, Suisse
CATEGORIES:Flesh & Blood
ATTACH;FMTTYPE=image/webp:https://shop.lemaitredejeux.ch/wp-content/uploads/2025/03/high_seas_logo_transparent.width-1200.format-webp.webp
END:VEVENT
BEGIN:VEVENT
DTSTART;TZID=Europe/Zurich:20250531T093000
DTEND;TZID=Europe/Zurich:20250531T133000
DTSTAMP:20260421T003740
CREATED:20250501T151329Z
LAST-MODIFIED:20250501T151549Z
UID:10000693-1748683800-1748698200@shop.lemaitredejeux.ch
SUMMARY:Lorcana : Avant-première set 8 "Le règne de Jafar"
DESCRIPTION:  \n  \n\n\n  \n  \nLorcana : Avant-première set 8 « Le règne de Jafar »\nFormat : scellé \nChaque joueur recevra 6 boosters pour créer son deck \n5 rondes en BO1 \nFrais de participation : 35.- \nCartes promo à gagner
URL:https://shop.lemaitredejeux.ch/event/lorcana-avant-premiere-set-8-le-regne-de-jafar/
LOCATION:Le Maitre de Jeux\, Rue du Scex 49\, Sion\, Valais\, 1950\, Suisse
CATEGORIES:Lorcana
ATTACH;FMTTYPE=image/webp:https://shop.lemaitredejeux.ch/wp-content/uploads/2025/05/dlc_roj_fr.webp
END:VEVENT
END:VCALENDAR