BEGIN:VCALENDAR
VERSION:2.0
PRODID:-//Le Maître de Jeux - ECPv6.15.18//NONSGML v1.0//EN
CALSCALE:GREGORIAN
METHOD:PUBLISH
X-WR-CALNAME:Le Maître de Jeux
X-ORIGINAL-URL:https://shop.lemaitredejeux.ch
X-WR-CALDESC:Évènements pour Le Maître de Jeux
REFRESH-INTERVAL;VALUE=DURATION:PT1H
X-Robots-Tag:noindex
X-PUBLISHED-TTL:PT1H
BEGIN:VTIMEZONE
TZID:Europe/Zurich
BEGIN:DAYLIGHT
TZOFFSETFROM:+0100
TZOFFSETTO:+0200
TZNAME:CEST
DTSTART:20250330T010000
END:DAYLIGHT
BEGIN:STANDARD
TZOFFSETFROM:+0200
TZOFFSETTO:+0100
TZNAME:CET
DTSTART:20251026T010000
END:STANDARD
BEGIN:DAYLIGHT
TZOFFSETFROM:+0100
TZOFFSETTO:+0200
TZNAME:CEST
DTSTART:20260329T010000
END:DAYLIGHT
BEGIN:STANDARD
TZOFFSETFROM:+0200
TZOFFSETTO:+0100
TZNAME:CET
DTSTART:20261025T010000
END:STANDARD
BEGIN:DAYLIGHT
TZOFFSETFROM:+0100
TZOFFSETTO:+0200
TZNAME:CEST
DTSTART:20270328T010000
END:DAYLIGHT
BEGIN:STANDARD
TZOFFSETFROM:+0200
TZOFFSETTO:+0100
TZNAME:CET
DTSTART:20271031T010000
END:STANDARD
END:VTIMEZONE
BEGIN:VEVENT
DTSTART;TZID=Europe/Zurich:20260424T180000
DTEND;TZID=Europe/Zurich:20260424T210000
DTSTAMP:20260421T161040
CREATED:20260421T085001Z
LAST-MODIFIED:20260421T085001Z
UID:10001143-1777053600-1777064400@shop.lemaitredejeux.ch
SUMMARY:Magic : Tournoi Draft
DESCRIPTION:Format : draft \nEdition : Secrets of Strixhaven (anglais) \nFrais de participation : 15.- (comprenant les 3 boosters du draft) \nLots : cartes promo \nInscriptions : Companion \nInformations : info@lemaitredejeux.ch
URL:https://shop.lemaitredejeux.ch/event/magic-tournoi-draft-4/2026-04-24/
LOCATION:Le Maitre de Jeux\, Rue du Scex 49\, Sion\, Valais\, 1950\, Suisse
CATEGORIES:Magic the Gathering
ATTACH;FMTTYPE=image/webp:https://shop.lemaitredejeux.ch/wp-content/uploads/2026/04/magic-the-gathering-tcg.webp
END:VEVENT
BEGIN:VEVENT
DTSTART;TZID=Europe/Zurich:20260501T180000
DTEND;TZID=Europe/Zurich:20260501T210000
DTSTAMP:20260421T161040
CREATED:20260421T085001Z
LAST-MODIFIED:20260421T085001Z
UID:10001144-1777658400-1777669200@shop.lemaitredejeux.ch
SUMMARY:Magic : Tournoi Draft
DESCRIPTION:Format : draft \nEdition : Secrets of Strixhaven (anglais) \nFrais de participation : 15.- (comprenant les 3 boosters du draft) \nLots : cartes promo \nInscriptions : Companion \nInformations : info@lemaitredejeux.ch
URL:https://shop.lemaitredejeux.ch/event/magic-tournoi-draft-4/2026-05-01/
LOCATION:Le Maitre de Jeux\, Rue du Scex 49\, Sion\, Valais\, 1950\, Suisse
CATEGORIES:Magic the Gathering
ATTACH;FMTTYPE=image/webp:https://shop.lemaitredejeux.ch/wp-content/uploads/2026/04/magic-the-gathering-tcg.webp
END:VEVENT
BEGIN:VEVENT
DTSTART;TZID=Europe/Zurich:20260508T180000
DTEND;TZID=Europe/Zurich:20260508T210000
DTSTAMP:20260421T161040
CREATED:20260421T085001Z
LAST-MODIFIED:20260421T085001Z
UID:10001145-1778263200-1778274000@shop.lemaitredejeux.ch
SUMMARY:Magic : Tournoi Draft
DESCRIPTION:Format : draft \nEdition : Secrets of Strixhaven (anglais) \nFrais de participation : 15.- (comprenant les 3 boosters du draft) \nLots : cartes promo \nInscriptions : Companion \nInformations : info@lemaitredejeux.ch
URL:https://shop.lemaitredejeux.ch/event/magic-tournoi-draft-4/2026-05-08/
LOCATION:Le Maitre de Jeux\, Rue du Scex 49\, Sion\, Valais\, 1950\, Suisse
CATEGORIES:Magic the Gathering
ATTACH;FMTTYPE=image/webp:https://shop.lemaitredejeux.ch/wp-content/uploads/2026/04/magic-the-gathering-tcg.webp
END:VEVENT
BEGIN:VEVENT
DTSTART;TZID=Europe/Zurich:20260515T180000
DTEND;TZID=Europe/Zurich:20260515T210000
DTSTAMP:20260421T161040
CREATED:20260421T085001Z
LAST-MODIFIED:20260421T085001Z
UID:10001146-1778868000-1778878800@shop.lemaitredejeux.ch
SUMMARY:Magic : Tournoi Draft
DESCRIPTION:Format : draft \nEdition : Secrets of Strixhaven (anglais) \nFrais de participation : 15.- (comprenant les 3 boosters du draft) \nLots : cartes promo \nInscriptions : Companion \nInformations : info@lemaitredejeux.ch
URL:https://shop.lemaitredejeux.ch/event/magic-tournoi-draft-4/2026-05-15/
LOCATION:Le Maitre de Jeux\, Rue du Scex 49\, Sion\, Valais\, 1950\, Suisse
CATEGORIES:Magic the Gathering
ATTACH;FMTTYPE=image/webp:https://shop.lemaitredejeux.ch/wp-content/uploads/2026/04/magic-the-gathering-tcg.webp
END:VEVENT
BEGIN:VEVENT
DTSTART;TZID=Europe/Zurich:20260522T180000
DTEND;TZID=Europe/Zurich:20260522T210000
DTSTAMP:20260421T161040
CREATED:20260421T085001Z
LAST-MODIFIED:20260421T085001Z
UID:10001147-1779472800-1779483600@shop.lemaitredejeux.ch
SUMMARY:Magic : Tournoi Draft
DESCRIPTION:Format : draft \nEdition : Secrets of Strixhaven (anglais) \nFrais de participation : 15.- (comprenant les 3 boosters du draft) \nLots : cartes promo \nInscriptions : Companion \nInformations : info@lemaitredejeux.ch
URL:https://shop.lemaitredejeux.ch/event/magic-tournoi-draft-4/2026-05-22/
LOCATION:Le Maitre de Jeux\, Rue du Scex 49\, Sion\, Valais\, 1950\, Suisse
CATEGORIES:Magic the Gathering
ATTACH;FMTTYPE=image/webp:https://shop.lemaitredejeux.ch/wp-content/uploads/2026/04/magic-the-gathering-tcg.webp
END:VEVENT
BEGIN:VEVENT
DTSTART;TZID=Europe/Zurich:20260529T180000
DTEND;TZID=Europe/Zurich:20260529T210000
DTSTAMP:20260421T161040
CREATED:20260421T085001Z
LAST-MODIFIED:20260421T085001Z
UID:10001148-1780077600-1780088400@shop.lemaitredejeux.ch
SUMMARY:Magic : Tournoi Draft
DESCRIPTION:Format : draft \nEdition : Secrets of Strixhaven (anglais) \nFrais de participation : 15.- (comprenant les 3 boosters du draft) \nLots : cartes promo \nInscriptions : Companion \nInformations : info@lemaitredejeux.ch
URL:https://shop.lemaitredejeux.ch/event/magic-tournoi-draft-4/2026-05-29/
LOCATION:Le Maitre de Jeux\, Rue du Scex 49\, Sion\, Valais\, 1950\, Suisse
CATEGORIES:Magic the Gathering
ATTACH;FMTTYPE=image/webp:https://shop.lemaitredejeux.ch/wp-content/uploads/2026/04/magic-the-gathering-tcg.webp
END:VEVENT
END:VCALENDAR