BEGIN:VCALENDAR
VERSION:2.0
PRODID:-//Le Maître de Jeux - ECPv6.15.18//NONSGML v1.0//EN
CALSCALE:GREGORIAN
METHOD:PUBLISH
X-ORIGINAL-URL:https://shop.lemaitredejeux.ch
X-WR-CALDESC:Évènements pour Le Maître de Jeux
REFRESH-INTERVAL;VALUE=DURATION:PT1H
X-Robots-Tag:noindex
X-PUBLISHED-TTL:PT1H
BEGIN:VTIMEZONE
TZID:Europe/Zurich
BEGIN:DAYLIGHT
TZOFFSETFROM:+0100
TZOFFSETTO:+0200
TZNAME:CEST
DTSTART:20230326T010000
END:DAYLIGHT
BEGIN:STANDARD
TZOFFSETFROM:+0200
TZOFFSETTO:+0100
TZNAME:CET
DTSTART:20231029T010000
END:STANDARD
BEGIN:DAYLIGHT
TZOFFSETFROM:+0100
TZOFFSETTO:+0200
TZNAME:CEST
DTSTART:20240331T010000
END:DAYLIGHT
BEGIN:STANDARD
TZOFFSETFROM:+0200
TZOFFSETTO:+0100
TZNAME:CET
DTSTART:20241027T010000
END:STANDARD
BEGIN:DAYLIGHT
TZOFFSETFROM:+0100
TZOFFSETTO:+0200
TZNAME:CEST
DTSTART:20250330T010000
END:DAYLIGHT
BEGIN:STANDARD
TZOFFSETFROM:+0200
TZOFFSETTO:+0100
TZNAME:CET
DTSTART:20251026T010000
END:STANDARD
END:VTIMEZONE
BEGIN:VEVENT
DTSTART;TZID=Europe/Zurich:20240719T180000
DTEND;TZID=Europe/Zurich:20240719T210000
DTSTAMP:20260421T074116
CREATED:20240612T075443Z
LAST-MODIFIED:20240620T124430Z
UID:10000053-1721412000-1721422800@shop.lemaitredejeux.ch
SUMMARY:Flesh & Blood : Armory Event
DESCRIPTION:Format : à définir \n\nLe format est choisi 2-3 jours avant l’event selon le désir des participants. Vous pouvez nous contacter 48h à l’avance pour connaître le format définitif. Vous êtes également bienvenus pour rejoindre notre groupe Whatsapp. \nFrais de participation : selon le format \nLots : cartes promo et boosters \nInformations et inscriptions : info@lemaitredejeux.ch
URL:https://shop.lemaitredejeux.ch/event/flesh-blood-armory-event-3/2024-07-19/
LOCATION:Le Maitre de Jeux\, Rue du Scex 49\, Sion\, Valais\, 1950\, Suisse
CATEGORIES:Flesh & Blood
ATTACH;FMTTYPE=image/png:https://shop.lemaitredejeux.ch/wp-content/uploads/2024/06/Fab-logo.png
END:VEVENT
BEGIN:VEVENT
DTSTART;TZID=Europe/Zurich:20240719T180000
DTEND;TZID=Europe/Zurich:20240719T210000
DTSTAMP:20260421T074116
CREATED:20240612T075443Z
LAST-MODIFIED:20240612T075443Z
UID:10001093-1721412000-1721422800@shop.lemaitredejeux.ch
SUMMARY:Flesh & Blood : Armory Event
DESCRIPTION:Format : à définir \n\nLe format est choisi 2-3 jours avant l’event selon le désir des participants. Vous pouvez nous contacter 48h à l’avance pour connaître le format définitif. Vous êtes également bienvenus pour rejoindre notre groupe Whatsapp. \nFrais de participation : selon le format \nLots : cartes promo et boosters \nInformations et inscriptions : info@lemaitredejeux.ch
URL:https://shop.lemaitredejeux.ch/event/flesh-blood-armory-event-3/2024-07-19/
LOCATION:Le Maitre de Jeux\, Rue du Scex 49\, Sion\, Valais\, 1950\, Suisse
CATEGORIES:Flesh & Blood
ATTACH;FMTTYPE=image/png:https://shop.lemaitredejeux.ch/wp-content/uploads/2024/06/Fab-logo.png
END:VEVENT
BEGIN:VEVENT
DTSTART;TZID=Europe/Zurich:20240719T180000
DTEND;TZID=Europe/Zurich:20240719T210000
DTSTAMP:20260421T074116
CREATED:20240612T075443Z
LAST-MODIFIED:20240612T075443Z
UID:10001078-1721412000-1721422800@shop.lemaitredejeux.ch
SUMMARY:Flesh & Blood : Armory Event
DESCRIPTION:Format : à définir \n\nLe format est choisi 2-3 jours avant l’event selon le désir des participants. Vous pouvez nous contacter 48h à l’avance pour connaître le format définitif. Vous êtes également bienvenus pour rejoindre notre groupe Whatsapp. \nFrais de participation : selon le format \nLots : cartes promo et boosters \nInformations et inscriptions : info@lemaitredejeux.ch
URL:https://shop.lemaitredejeux.ch/event/flesh-blood-armory-event-3/2024-07-19/
LOCATION:Le Maitre de Jeux\, Rue du Scex 49\, Sion\, Valais\, 1950\, Suisse
CATEGORIES:Flesh & Blood
ATTACH;FMTTYPE=image/png:https://shop.lemaitredejeux.ch/wp-content/uploads/2024/06/Fab-logo.png
END:VEVENT
BEGIN:VEVENT
DTSTART;TZID=Europe/Zurich:20240719T180000
DTEND;TZID=Europe/Zurich:20240719T210000
DTSTAMP:20260421T074116
CREATED:20240612T075443Z
LAST-MODIFIED:20240612T075443Z
UID:10001086-1721412000-1721422800@shop.lemaitredejeux.ch
SUMMARY:Flesh & Blood : Armory Event
DESCRIPTION:Format : à définir \n\nLe format est choisi 2-3 jours avant l’event selon le désir des participants. Vous pouvez nous contacter 48h à l’avance pour connaître le format définitif. Vous êtes également bienvenus pour rejoindre notre groupe Whatsapp. \nFrais de participation : selon le format \nLots : cartes promo et boosters \nInformations et inscriptions : info@lemaitredejeux.ch
URL:https://shop.lemaitredejeux.ch/event/flesh-blood-armory-event-3/2024-07-19/
LOCATION:Le Maitre de Jeux\, Rue du Scex 49\, Sion\, Valais\, 1950\, Suisse
CATEGORIES:Flesh & Blood
ATTACH;FMTTYPE=image/png:https://shop.lemaitredejeux.ch/wp-content/uploads/2024/06/Fab-logo.png
END:VEVENT
BEGIN:VEVENT
DTSTART;TZID=Europe/Zurich:20240713T133000
DTEND;TZID=Europe/Zurich:20240713T170000
DTSTAMP:20260421T074116
CREATED:20240618T152134Z
LAST-MODIFIED:20240618T152229Z
UID:10000067-1720877400-1720890000@shop.lemaitredejeux.ch
SUMMARY:Yu-Gi-Oh : L’Infini Interdit – Premiere !
DESCRIPTION:Venez découvrir en avant-première les cartes de la nouvelle édition Yu-Gi-Oh « L’infini interdit » au travers d’un tournoi amical. Chaque joueur recevra 5 boosters pour faire son deck. \nFormat : scellé \nFrais de participation : 25.- \n  \nLots : Carte Promotionnelle Ultra Rare et tapis de jeu pour le vainqueur. Chaque participant recevra une carte Field Center.
URL:https://shop.lemaitredejeux.ch/event/yu-gi-oh-linfini-interdit-premiere/
LOCATION:Le Maitre de Jeux\, Rue du Scex 49\, Sion\, Valais\, 1950\, Suisse
CATEGORIES:Yu-Gi-Oh
ATTACH;FMTTYPE=image/png:https://shop.lemaitredejeux.ch/wp-content/uploads/2024/06/ygo-transparent.png
END:VEVENT
BEGIN:VEVENT
DTSTART;TZID=Europe/Zurich:20240713T130000
DTEND;TZID=Europe/Zurich:20240713T170000
DTSTAMP:20260421T074116
CREATED:20240618T153357Z
LAST-MODIFIED:20240618T172519Z
UID:10000077-1720875600-1720890000@shop.lemaitredejeux.ch
SUMMARY:Jeu de Go : initiations gratuites
DESCRIPTION:Venez découvrir un jeu qui séduit toujours autant petits et grands depuis des millénaires ! \nLes membres de la fédération suisse de go auront un grand plaisir à vous expliquer les règles (simples !) et vous faire découvrir ce jeu aux possibilités quasi infinies. \nCette animation est ouverte aux enfants comme aux adultes.
URL:https://shop.lemaitredejeux.ch/event/jeu-de-go-initiations-gratuites/
LOCATION:Le Maitre de Jeux\, Rue du Scex 49\, Sion\, Valais\, 1950\, Suisse
CATEGORIES:Events
ATTACH;FMTTYPE=image/jpeg:https://shop.lemaitredejeux.ch/wp-content/uploads/2024/06/jeu-de-go.jpg
END:VEVENT
BEGIN:VEVENT
DTSTART;TZID=Europe/Zurich:20240712T180000
DTEND;TZID=Europe/Zurich:20240712T210000
DTSTAMP:20260421T074116
CREATED:20240612T075443Z
LAST-MODIFIED:20240620T124430Z
UID:10000052-1720807200-1720818000@shop.lemaitredejeux.ch
SUMMARY:Flesh & Blood : Armory Event
DESCRIPTION:Format : à définir \n\nLe format est choisi 2-3 jours avant l’event selon le désir des participants. Vous pouvez nous contacter 48h à l’avance pour connaître le format définitif. Vous êtes également bienvenus pour rejoindre notre groupe Whatsapp. \nFrais de participation : selon le format \nLots : cartes promo et boosters \nInformations et inscriptions : info@lemaitredejeux.ch
URL:https://shop.lemaitredejeux.ch/event/flesh-blood-armory-event-3/2024-07-12/
LOCATION:Le Maitre de Jeux\, Rue du Scex 49\, Sion\, Valais\, 1950\, Suisse
CATEGORIES:Flesh & Blood
ATTACH;FMTTYPE=image/png:https://shop.lemaitredejeux.ch/wp-content/uploads/2024/06/Fab-logo.png
END:VEVENT
BEGIN:VEVENT
DTSTART;TZID=Europe/Zurich:20240712T180000
DTEND;TZID=Europe/Zurich:20240712T210000
DTSTAMP:20260421T074116
CREATED:20240612T075443Z
LAST-MODIFIED:20240612T075443Z
UID:10001077-1720807200-1720818000@shop.lemaitredejeux.ch
SUMMARY:Flesh & Blood : Armory Event
DESCRIPTION:Format : à définir \n\nLe format est choisi 2-3 jours avant l’event selon le désir des participants. Vous pouvez nous contacter 48h à l’avance pour connaître le format définitif. Vous êtes également bienvenus pour rejoindre notre groupe Whatsapp. \nFrais de participation : selon le format \nLots : cartes promo et boosters \nInformations et inscriptions : info@lemaitredejeux.ch
URL:https://shop.lemaitredejeux.ch/event/flesh-blood-armory-event-3/2024-07-12/
LOCATION:Le Maitre de Jeux\, Rue du Scex 49\, Sion\, Valais\, 1950\, Suisse
CATEGORIES:Flesh & Blood
ATTACH;FMTTYPE=image/png:https://shop.lemaitredejeux.ch/wp-content/uploads/2024/06/Fab-logo.png
END:VEVENT
BEGIN:VEVENT
DTSTART;TZID=Europe/Zurich:20240712T180000
DTEND;TZID=Europe/Zurich:20240712T210000
DTSTAMP:20260421T074116
CREATED:20240612T075443Z
LAST-MODIFIED:20240612T075443Z
UID:10001085-1720807200-1720818000@shop.lemaitredejeux.ch
SUMMARY:Flesh & Blood : Armory Event
DESCRIPTION:Format : à définir \n\nLe format est choisi 2-3 jours avant l’event selon le désir des participants. Vous pouvez nous contacter 48h à l’avance pour connaître le format définitif. Vous êtes également bienvenus pour rejoindre notre groupe Whatsapp. \nFrais de participation : selon le format \nLots : cartes promo et boosters \nInformations et inscriptions : info@lemaitredejeux.ch
URL:https://shop.lemaitredejeux.ch/event/flesh-blood-armory-event-3/2024-07-12/
LOCATION:Le Maitre de Jeux\, Rue du Scex 49\, Sion\, Valais\, 1950\, Suisse
CATEGORIES:Flesh & Blood
ATTACH;FMTTYPE=image/png:https://shop.lemaitredejeux.ch/wp-content/uploads/2024/06/Fab-logo.png
END:VEVENT
BEGIN:VEVENT
DTSTART;TZID=Europe/Zurich:20240705T180000
DTEND;TZID=Europe/Zurich:20240705T210000
DTSTAMP:20260421T074116
CREATED:20240612T080519Z
LAST-MODIFIED:20240704T165937Z
UID:10000074-1720202400-1720213200@shop.lemaitredejeux.ch
SUMMARY:Star Wars Unlimited : Avant-Première Ombres De La Galaxie
DESCRIPTION:Venez découvrir en avant-première la nouvelle édition du jeu de cartes Star Wars Unlimited au travers d’un tournoi amical. \nChaque joueur recevra un pack d’avant-première pour créer son deck (cartes en français). \nLots à gagner. \nInscriptions et informations : info@lemaitredejeux.ch
URL:https://shop.lemaitredejeux.ch/event/star-wars-unlimited-avant-premiere-ombres-de-la-galaxie/
LOCATION:Le Maitre de Jeux\, Rue du Scex 49\, Sion\, Valais\, 1950\, Suisse
CATEGORIES:Star Wars Unlimited
ATTACH;FMTTYPE=image/png:https://shop.lemaitredejeux.ch/wp-content/uploads/2024/06/swu-transparent.png
END:VEVENT
BEGIN:VEVENT
DTSTART;TZID=Europe/Zurich:20240705T180000
DTEND;TZID=Europe/Zurich:20240705T210000
DTSTAMP:20260421T074116
CREATED:20240612T075443Z
LAST-MODIFIED:20240612T075443Z
UID:10001076-1720202400-1720213200@shop.lemaitredejeux.ch
SUMMARY:Flesh & Blood : Armory Event
DESCRIPTION:Format : à définir \n\nLe format est choisi 2-3 jours avant l’event selon le désir des participants. Vous pouvez nous contacter 48h à l’avance pour connaître le format définitif. Vous êtes également bienvenus pour rejoindre notre groupe Whatsapp. \nFrais de participation : selon le format \nLots : cartes promo et boosters \nInformations et inscriptions : info@lemaitredejeux.ch
URL:https://shop.lemaitredejeux.ch/event/flesh-blood-armory-event-3/2024-07-05/
LOCATION:Le Maitre de Jeux\, Rue du Scex 49\, Sion\, Valais\, 1950\, Suisse
CATEGORIES:Flesh & Blood
ATTACH;FMTTYPE=image/png:https://shop.lemaitredejeux.ch/wp-content/uploads/2024/06/Fab-logo.png
END:VEVENT
BEGIN:VEVENT
DTSTART;TZID=Europe/Zurich:20240705T180000
DTEND;TZID=Europe/Zurich:20240705T210000
DTSTAMP:20260421T074116
CREATED:20240612T075443Z
LAST-MODIFIED:20240620T124430Z
UID:10000051-1720202400-1720213200@shop.lemaitredejeux.ch
SUMMARY:Flesh & Blood : Armory Event
DESCRIPTION:Format : à définir \n\nLe format est choisi 2-3 jours avant l’event selon le désir des participants. Vous pouvez nous contacter 48h à l’avance pour connaître le format définitif. Vous êtes également bienvenus pour rejoindre notre groupe Whatsapp. \nFrais de participation : selon le format \nLots : cartes promo et boosters \nInformations et inscriptions : info@lemaitredejeux.ch
URL:https://shop.lemaitredejeux.ch/event/flesh-blood-armory-event-3/2024-07-05/
LOCATION:Le Maitre de Jeux\, Rue du Scex 49\, Sion\, Valais\, 1950\, Suisse
CATEGORIES:Flesh & Blood
ATTACH;FMTTYPE=image/png:https://shop.lemaitredejeux.ch/wp-content/uploads/2024/06/Fab-logo.png
END:VEVENT
BEGIN:VEVENT
DTSTART;TZID=Europe/Zurich:20240629T140000
DTEND;TZID=Europe/Zurich:20240629T170000
DTSTAMP:20260421T074116
CREATED:20240612T080025Z
LAST-MODIFIED:20240612T080025Z
UID:10000075-1719669600-1719680400@shop.lemaitredejeux.ch
SUMMARY:Yu-Gi-Oh : Tournoi "Commun Charity" Soft
DESCRIPTION:Seules les cartes de rareté commune sont autorisées. Néanmoins\, si la carte existe en commune et dans une rareté supérieure\, vous pouvez jouer la rareté supérieure. \nLots : 2 boosters OTS pour tous les participants + 1 OTS supplémentaire pour le gagnant. \nFrais d’inscription: 7.- \nInformations et inscriptions : info@lemaitredejeux.ch
URL:https://shop.lemaitredejeux.ch/event/yu-gi-oh-tournoi-commun-charity-soft/
LOCATION:Le Maitre de Jeux\, Rue du Scex 49\, Sion\, Valais\, 1950\, Suisse
ATTACH;FMTTYPE=image/png:https://shop.lemaitredejeux.ch/wp-content/uploads/2024/06/ygo-transparent.png
END:VEVENT
BEGIN:VEVENT
DTSTART;TZID=Europe/Zurich:20240629T100000
DTEND;TZID=Europe/Zurich:20240629T120000
DTSTAMP:20260421T074116
CREATED:20240612T075928Z
LAST-MODIFIED:20240612T075928Z
UID:10000048-1719655200-1719662400@shop.lemaitredejeux.ch
SUMMARY:Découverte de jeux
DESCRIPTION:L’espace d’une matinée\, nous vous invitons à venir découvrir des jeux de société récents. \nEntrée libre. \nPour toute question\, vous pouvez nous contacter à info@lemaitredejeux.ch
URL:https://shop.lemaitredejeux.ch/event/decouverte-de-jeux-2/
LOCATION:Le Maitre de Jeux\, Rue du Scex 49\, Sion\, Valais\, 1950\, Suisse
ATTACH;FMTTYPE=image/png:https://shop.lemaitredejeux.ch/wp-content/uploads/2024/06/des_transparents.png
END:VEVENT
BEGIN:VEVENT
DTSTART;TZID=Europe/Zurich:20240628T180000
DTEND;TZID=Europe/Zurich:20240628T210000
DTSTAMP:20260421T074116
CREATED:20240612T075807Z
LAST-MODIFIED:20240612T075807Z
UID:10000049-1719597600-1719608400@shop.lemaitredejeux.ch
SUMMARY:One Piece : Avant-Première OP07
DESCRIPTION:Format : scellé \n\nChaque joueur recevra 6 boosters pour construire un deck de 40 cartes sans limite de copies de cartes. \nVous pourrez amener et utiliser n’importe quelle carte de Leader\, même d’une extension précédente et vous pourrez également jouer n’importe quelle couleur dans votre deck sans restriction. \nCartes promo à gagner. \nFrais de participation : 40.- \nInfos et inscriptions : info@lemaitredejeux.ch
URL:https://shop.lemaitredejeux.ch/event/one-piece-avant-premiere-op07/
LOCATION:Le Maitre de Jeux\, Rue du Scex 49\, Sion\, Valais\, 1950\, Suisse
ATTACH;FMTTYPE=image/webp:https://shop.lemaitredejeux.ch/wp-content/uploads/2024/06/onepiece-transparent.webp
END:VEVENT
BEGIN:VEVENT
DTSTART;TZID=Europe/Zurich:20240628T180000
DTEND;TZID=Europe/Zurich:20240628T210000
DTSTAMP:20260421T074116
CREATED:20240612T075443Z
LAST-MODIFIED:20240620T124430Z
UID:10000050-1719597600-1719608400@shop.lemaitredejeux.ch
SUMMARY:Flesh & Blood : Armory Event
DESCRIPTION:Format : à définir \n\nLe format est choisi 2-3 jours avant l’event selon le désir des participants. Vous pouvez nous contacter 48h à l’avance pour connaître le format définitif. Vous êtes également bienvenus pour rejoindre notre groupe Whatsapp. \nFrais de participation : selon le format \nLots : cartes promo et boosters \nInformations et inscriptions : info@lemaitredejeux.ch
URL:https://shop.lemaitredejeux.ch/event/flesh-blood-armory-event-3/2024-06-28/
LOCATION:Le Maitre de Jeux\, Rue du Scex 49\, Sion\, Valais\, 1950\, Suisse
CATEGORIES:Flesh & Blood
ATTACH;FMTTYPE=image/png:https://shop.lemaitredejeux.ch/wp-content/uploads/2024/06/Fab-logo.png
END:VEVENT
BEGIN:VEVENT
DTSTART;TZID=Europe/Zurich:20240622T140000
DTEND;TZID=Europe/Zurich:20240622T170000
DTSTAMP:20260421T074116
CREATED:20240612T075338Z
LAST-MODIFIED:20240612T075338Z
UID:10000060-1719064800-1719075600@shop.lemaitredejeux.ch
SUMMARY:Yu-Gi-Oh : Tournoi en format Construit Avancé
DESCRIPTION:Chaque joueur utilise son propre deck (selon banlist officielle). \nFormat : construit \nFrais de participation : 7.- \nLots : 2 boosters OTS par joueur et 1 de plus pour le vainqueur \nInformations et inscriptions : info@lemaitredejeux.ch
URL:https://shop.lemaitredejeux.ch/event/yu-gi-oh-tournoi-en-format-construit-avance-2/
LOCATION:Le Maitre de Jeux\, Rue du Scex 49\, Sion\, Valais\, 1950\, Suisse
ATTACH;FMTTYPE=image/png:https://shop.lemaitredejeux.ch/wp-content/uploads/2024/06/ygo-transparent.png
END:VEVENT
BEGIN:VEVENT
DTSTART;TZID=Europe/Zurich:20240621T180000
DTEND;TZID=Europe/Zurich:20240621T210000
DTSTAMP:20260421T074116
CREATED:20240612T075241Z
LAST-MODIFIED:20240612T100525Z
UID:10000061-1718992800-1719003600@shop.lemaitredejeux.ch
SUMMARY:Flesh & Blood : Armory Event
DESCRIPTION:Format : à définir \nLe format est choisi 2-3 jours avant l’event selon le désir des participants. Vous pouvez nous contacter 48h à l’avance pour connaître le format définitif. Vous êtes également bienvenus pour rejoindre notre groupe Whatsapp. \nFrais de participation : selon le format \nLots : cartes promo et boosters \nInformations et inscriptions : info@lemaitredejeux.ch
URL:https://shop.lemaitredejeux.ch/event/flesh-blood-armory-event-2/
LOCATION:Le Maitre de Jeux\, Rue du Scex 49\, Sion\, Valais\, 1950\, Suisse
ATTACH;FMTTYPE=image/png:https://shop.lemaitredejeux.ch/wp-content/uploads/2024/06/Fab-logo.png
END:VEVENT
BEGIN:VEVENT
DTSTART;TZID=Europe/Zurich:20240615T140000
DTEND;TZID=Europe/Zurich:20240615T170000
DTSTAMP:20260421T074116
CREATED:20240612T074840Z
LAST-MODIFIED:20240612T075050Z
UID:10000062-1718460000-1718470800@shop.lemaitredejeux.ch
SUMMARY:Yu-Gi-Oh : Tournoi en format Construit Avancé
DESCRIPTION:Chaque joueur utilise son propre deck (selon banlist officielle). \nFormat : construit \nFrais de participation : 7.- \nLots : 2 boosters OTS par joueur et 1 de plus pour le vainqueur \nInformations et inscriptions : info@lemaitredejeux.ch
URL:https://shop.lemaitredejeux.ch/event/yu-gi-oh-tournoi-en-format-construit-avance/
LOCATION:Le Maitre de Jeux\, Rue du Scex 49\, Sion\, Valais\, 1950\, Suisse
ATTACH;FMTTYPE=image/png:https://shop.lemaitredejeux.ch/wp-content/uploads/2024/06/ygo-transparent.png
END:VEVENT
BEGIN:VEVENT
DTSTART;TZID=Europe/Zurich:20240615T133000
DTEND;TZID=Europe/Zurich:20240615T200000
DTSTAMP:20260421T074116
CREATED:20240612T074608Z
LAST-MODIFIED:20240612T074608Z
UID:10000063-1718458200-1718481600@shop.lemaitredejeux.ch
SUMMARY:Jeux de figurines
DESCRIPTION:Venez participer ou simplement observer des parties de jeux de figurines (Age of Sigmar\, Warhammer 40K\, Warcry\, Killteam\, Necromunda ou Underworld) entre 13h30 et 20h. \nL’entrée est libre. L’adresse est : Maison des Jeunes\, Rue Centrale 26\, 1964 Conthey. \nPour toute question\, vous pouvez nous contacter à info@lemaitredejeux.ch
URL:https://shop.lemaitredejeux.ch/event/jeux-de-figurines/
LOCATION:Maison des jeunes de Conthey\, Rue Centrale 26\, Conthey\, Valais\, 1964\, Suisse
ATTACH;FMTTYPE=image/jpeg:https://shop.lemaitredejeux.ch/wp-content/uploads/2024/06/warhammer-figurines.jpg
END:VEVENT
BEGIN:VEVENT
DTSTART;TZID=Europe/Zurich:20240615T130000
DTEND;TZID=Europe/Zurich:20240615T170000
DTSTAMP:20260421T074116
CREATED:20240612T074257Z
LAST-MODIFIED:20240612T075125Z
UID:10000064-1718456400-1718470800@shop.lemaitredejeux.ch
SUMMARY:Magic : Tournoi Pauper
DESCRIPTION:Le pauper est un format dans lequel seules les cartes communes sont autorisées. L’ambiance est détendue et le plaisir du jeu prime sur l’aspect compétitif. Les joueurs débutant comme expérimentés\, enfants comme adultes\, sont les bienvenus ! Il y a également la possibilité de se faire prêter un deck. \n\nFrais de participation : 6.- \nLots : bons cadeaux pour notre boutique \nInformations et inscriptions : Julien au 079 568 63 25 ou info@lemaitredejeux.ch \nIl est vivement conseillé de s’inscrire à l’avance car on joue régulièrement à guichets fermés 🙂
URL:https://shop.lemaitredejeux.ch/event/magic-tournoi-pauper/
LOCATION:Le Maitre de Jeux\, Rue du Scex 49\, Sion\, Valais\, 1950\, Suisse
ATTACH;FMTTYPE=image/png:https://shop.lemaitredejeux.ch/wp-content/uploads/2024/06/mtg-transparent.png
END:VEVENT
BEGIN:VEVENT
DTSTART;TZID=Europe/Zurich:20240615T100000
DTEND;TZID=Europe/Zurich:20240615T120000
DTSTAMP:20260421T074116
CREATED:20240612T074058Z
LAST-MODIFIED:20240720T131218Z
UID:10000065-1718445600-1718452800@shop.lemaitredejeux.ch
SUMMARY:Découverte de jeux
DESCRIPTION:L’espace d’une matinée\, nous vous invitons à venir découvrir des jeux de société récents.\n\nEntrée libre. \nPour toute question\, vous pouvez nous contacter à info@lemaitredejeux.ch
URL:https://shop.lemaitredejeux.ch/event/decouverte-de-jeux/2024-06-15/
LOCATION:Le Maitre de Jeux\, Rue du Scex 49\, Sion\, Valais\, 1950\, Suisse
CATEGORIES:Events
ATTACH;FMTTYPE=image/png:https://shop.lemaitredejeux.ch/wp-content/uploads/2024/06/des_transparents.png
END:VEVENT
BEGIN:VEVENT
DTSTART;TZID=Europe/Zurich:20240614T180000
DTEND;TZID=Europe/Zurich:20240614T210000
DTSTAMP:20260421T074116
CREATED:20240612T073829Z
LAST-MODIFIED:20240612T100456Z
UID:10000076-1718388000-1718398800@shop.lemaitredejeux.ch
SUMMARY:Flesh & Blood : Armory Event
DESCRIPTION:Format : à définir \nLe format est choisi 2-3 jours avant l’event selon le désir des participants. Vous pouvez nous contacter 48h à l’avance pour connaître le format définitif. Vous êtes également bienvenus pour rejoindre notre groupe Whatsapp. \nFrais de participation : selon le format \nLots : cartes promo et boosters \nInformations et inscriptions : info@lemaitredejeux.ch
URL:https://shop.lemaitredejeux.ch/event/flesh-blood-armory-event/
LOCATION:Le Maitre de Jeux\, Rue du Scex 49\, Sion\, Valais\, 1950\, Suisse
ATTACH;FMTTYPE=image/png:https://shop.lemaitredejeux.ch/wp-content/uploads/2024/06/Fab-logo.png
END:VEVENT
END:VCALENDAR